BEGIN:VCALENDAR
VERSION:2.0
CALSCALE:GREGORIAN
PRODID:adamgibbons/ics
METHOD:PUBLISH
X-PUBLISHED-TTL:PT1H
BEGIN:VEVENT
UID:84@dubagenda.top
SUMMARY:Debusk' in Dub #2
DTSTAMP:20260421T132716Z
DTSTART:20251213T193000Z
DTEND:20251214T003000Z
DESCRIPTION:Pour terminer l'année 2025 en beauté\, c'est Débusk'In Dub qui 
	revient pour une\ndeuxième édition qui s'annonce bouillante !\nPas de Soun
	d System cette année\, mais pas de panique ! Les artistes qui\nbrilleront 
	sur scène vous donnerons votre dose de Basses. C'est un beau Line Up\nqui 
	s'annonce avec des artistes instrumentistes qui ont chinés des sonorités\n
	venus des quatre coins du monde !\nPrêt(e)s ?\nDébusk'In Dub ? C'est une s
	élection made by Les Débuskeurs d'artistes Dub de\ntalents. Après une prem
	ière moisson en octobre 2023 avec 2 Sound System Nantais\net un DJ Interlo
	cal qui fût intense. Cette deuxième édition revient pour faire\ntrembler l
	a salle de La Baritaudière à nouveau de basses puissantes ! Pas de\nSound 
	System cette fois-ci\, c’est une autre facette du Dub qu'on vous dévoile\,
	\ndes artistes instrumentistes talentueux\, qui chinent des sonorités aux 
	4 coins\ndu globe et qui distillent leurs bonnes ondes à travers la France
	 et l'Europe !
URL:https://dubagenda.top/event/debusk-in-dub-2
GEO:46.7212066;-1.9471966
LOCATION:85270 Saint-Hilaire-de-Riez // Salle de la Baritaudière - Rue des 
	Pins\, Les Minées\, Saint-Hilaire-de-Riez\, Les Sables-d'Olonne\, Vendée\,
	 Pays de la Loire\, France métropolitaine\, 85270\, France
STATUS:CONFIRMED
CATEGORIES:2025,85,Sound System
X-ALT-DESC;FMTTYPE=text/html:<p>Pour terminer l'année 2025 en beauté, c'est
	 Débusk'In Dub qui revient pour une deuxième édition qui s'annonce bouilla
	nte !<br>Pas de Sound System cette année, mais pas de panique ! Les artist
	es qui brilleront sur scène vous donnerons votre dose de Basses. C'est un 
	beau Line Up qui s'annonce avec des artistes instrumentistes qui ont chiné
	s des sonorités venus des quatre coins du monde !<br>Prêt(e)s ?<br>Débusk'
	In Dub ? C'est une sélection made by Les Débuskeurs d'artistes Dub de tale
	nts. Après une première moisson en octobre 2023 avec 2 Sound System Nantai
	s et un DJ Interlocal qui fût intense. Cette deuxième édition revient pour
	 faire trembler la salle de La Baritaudière à nouveau de basses puissantes
	 ! Pas de Sound System cette fois-ci, c’est une autre facette du Dub qu'on
	 vous dévoile, des artistes instrumentistes talentueux, qui chinent des so
	norités aux 4 coins du globe et qui distillent leurs bonnes ondes à traver
	s la France et l'Europe ! </p>
BEGIN:VALARM
ACTION:DISPLAY
DESCRIPTION:Debusk' in Dub #2
TRIGGER:-PT1H
END:VALARM
END:VEVENT
END:VCALENDAR
