BEGIN:VCALENDAR
VERSION:2.0
CALSCALE:GREGORIAN
PRODID:adamgibbons/ics
METHOD:PUBLISH
X-PUBLISHED-TTL:PT1H
BEGIN:VEVENT
UID:98@dubagenda.top
SUMMARY:Dance On Dub
DTSTAMP:20260421T150534Z
DTSTART:20251205T200000Z
DTEND:20251206T010000Z
DESCRIPTION:Yo les Nantais !\n\nLe vendredi 05 décembre\, on investit le Br
	as de Fer pour vous faire danser avec\nles locaux d’Heartikal Vibes Sound\
	n\nAu programme\, selections affutées from reggae/roots to dub de 21h à 02
	h du matin\n!\n\nBig up @justeleblanc pour l’affiche
URL:https://dubagenda.top/event/dance-on-dub
GEO:47.2051067;-1.5573503
LOCATION:44200 Nantes // Le Bras de Fer - 20\, Boulevard de la Prairie au D
	uc\, République\, République - Les Ponts\, Île de Nantes\, Nantes\, Loire-
	Atlantique\, Pays de la Loire\, France métropolitaine\, 44200\, France
STATUS:CONFIRMED
CATEGORIES:2025,Nantes,Sound System
X-ALT-DESC;FMTTYPE=text/html:<p>Yo les Nantais !</p><p>Le vendredi 05 décem
	bre, on investit le Bras de Fer pour vous faire danser avec les locaux d’H
	eartikal Vibes Sound</p><p>Au programme, selections affutées from reggae/r
	oots to dub de 21h à 02h du matin !</p><p>Big up @<em>justeleblanc</em> po
	ur l’affiche</p>
BEGIN:VALARM
ACTION:DISPLAY
DESCRIPTION:Dance On Dub
TRIGGER:-PT1H
END:VALARM
END:VEVENT
END:VCALENDAR
