BEGIN:VCALENDAR
VERSION:2.0
CALSCALE:GREGORIAN
PRODID:adamgibbons/ics
METHOD:PUBLISH
X-PUBLISHED-TTL:PT1H
BEGIN:VEVENT
UID:111@dubagenda.top
SUMMARY:Daddy Reggae Sound System
DTSTAMP:20260421T153058Z
DTSTART:20260206T200000Z
DTEND:20260207T010000Z
DESCRIPTION:Vous avez peut-être déjà croisé le camion jaune de Daddy Reggae
	\, ce juke-box\nambulant qui fait vibrer les rues de Nantes au son de son 
	sound system lors de\nses apparitions surprises. Bonne nouvelle ! Il nous 
	fait l'honneur de poser ses\nvalises (et son sound system) le temps d'une 
	soirée dans le salon de Vin Te\nFaire Boire. Venez\, il se charge de vous 
	faire danser toute la soirée !
URL:https://dubagenda.top/event/daddy-reggae-sound-system
GEO:47.2327093;-1.5220554
LOCATION:44300 Nantes // Vin Te Faire Boire - Rue Camille Desmoulins\, Marr
	ière\, Boulevard des Poilus\, Doulon - Bottière\, Nantes\, Loire-Atlantiqu
	e\, Pays de la Loire\, France métropolitaine\, 44319\, France
STATUS:CONFIRMED
CATEGORIES:Nantes,2026
X-ALT-DESC;FMTTYPE=text/html:<p>Vous avez peut-être déjà croisé le camion j
	aune de Daddy Reggae, ce juke-box ambulant qui fait vibrer les rues de Nan
	tes au son de son sound system lors de ses apparitions surprises. Bonne no
	uvelle ! Il nous fait l'honneur de poser ses valises (et son sound system)
	 le temps d'une soirée dans le salon de Vin Te Faire Boire. Venez, il se c
	harge de vous faire danser toute la soirée !</p>
BEGIN:VALARM
ACTION:DISPLAY
DESCRIPTION:Daddy Reggae Sound System
TRIGGER:-PT1H
END:VALARM
END:VEVENT
END:VCALENDAR
