BEGIN:VCALENDAR
VERSION:2.0
CALSCALE:GREGORIAN
PRODID:adamgibbons/ics
METHOD:PUBLISH
X-PUBLISHED-TTL:PT1H
BEGIN:VEVENT
UID:157@dubagenda.top
SUMMARY:Daddy Reggae feat. Rasco
DTSTAMP:20260421T151323Z
DTSTART:20260403T183000Z
DTEND:20260403T220000Z
DESCRIPTION:DADDY REGGAE et RASCO reviennent faire trembler les murs de Vin
	 Te Faire Boire\nle 3 avril ✨\nBOUM ! Un gros sound system dans le salon.�
	\nHOP ! Un MC méga chaud au micro.�\nPAF ! Des vinyles légendaires qui tou
	rnent.�\n...Et les good vibes envahissent la pièce.\nUne pinte à la main\,
	 la tête qui hoche toute seule et le parquet qui vibre\, il\nnous faut quo
	i de plus ?\nCome catch a vibe. 🔥
URL:https://dubagenda.top/event/daddy-reggae-feat-rasco
GEO:47.2327093;-1.5220554
LOCATION:44300 Nantes // Vin Te Faire Boire - Rue Camille Desmoulins\, Marr
	ière\, Boulevard des Poilus\, Doulon - Bottière\, Nantes\, Loire-Atlantiqu
	e\, Pays de la Loire\, France métropolitaine\, 44319\, France
STATUS:CONFIRMED
CATEGORIES:Nantes,2026,Sound System
X-ALT-DESC;FMTTYPE=text/html:<p>DADDY REGGAE et RASCO reviennent faire trem
	bler les murs de Vin Te Faire Boire le 3 avril ✨<br>BOUM ! Un gros sound s
	ystem dans le salon.�<br>HOP ! Un MC méga chaud au micro.�<br>PAF ! Des vi
	nyles légendaires qui tournent.�<br>...Et les good vibes envahissent la pi
	èce.<br>Une pinte à la main, la tête qui hoche toute seule et le parquet q
	ui vibre, il nous faut quoi de plus ?<br>Come catch a vibe. 🔥</p>
BEGIN:VALARM
ACTION:DISPLAY
DESCRIPTION:Daddy Reggae feat. Rasco
TRIGGER:-PT1H
END:VALARM
END:VEVENT
END:VCALENDAR
