BEGIN:VCALENDAR
VERSION:2.0
CALSCALE:GREGORIAN
PRODID:adamgibbons/ics
METHOD:PUBLISH
X-PUBLISHED-TTL:PT1H
BEGIN:VEVENT
UID:16@dubagenda.top
SUMMARY:Daddy Mory // Roots Tonality Sound System
DTSTAMP:20260421T153124Z
DTSTART:20250906T160000Z
DTEND:20250907T000000Z
DESCRIPTION:📆 Samedi 06 septembre 2025\n📍 Philosophy le Concept – La Rochel
	le\n🏠 Adresse : 15 Rue Élie Barreau\, 17000 La Rochelle\n📞Téléphone infos 
	: 05 33 06 97 39\n🕕 Début des festivités dès 18h – jusqu’à 02h\n🎟️ Billette
	rie : eskifaia.com [http://eskifaia.com] ( + web radio )\n🌮 Bar et restaur
	ation disponibles toute la soirée\n🎤 DADDY MORY ( Raggasonic)\nMembre du d
	uo mythique Raggasonic\, Daddy Mory enchaîne les classiques depuis les\nan
	nées 90. Entre dancehall conscient et reggae engagé\, ses lyrics et son fl
	ow\nunique en font une figure incontournable de la scène francophone.\n🎧 S
	ELECTA LYCHAR (Guiding Star Sound )\nMembre du célèbre Guiding Star\, soun
	d vétéran fondé en 1993\, Selecta Lychar\npropage une vibe authentique et 
	une sélection affûtée de gros dubplates.\n🔊 ROOTS TONALITY SOUND SYSTEM – 
	Full sound 4 scoops\nRas Belix - Mc Colgado et Selecta Got\nCollectif acti
	viste\, Roots Tonality fait vivre la culture sound system avec leur\npropr
	e sono artisanale. Leurs sélections roots & stepper\, entre spiritualité e
	t\npuissance. Le sound est porté par une équipe soudée et passionnée. Pour
	\nl’occasion\, ils installent leur système complet en configuration 4 scoo
	ps pour\nfaire vibrer le Philosophy de l’intérieur.\n🎤 SELECTA BYM (Eskifa
	ia Sound)\nFondateur d’Eskifaia\, activiste infatigable\, Selecta Bym sera
	 là au micro au\ncôté de Mc Colgado pour animer la soirée\n🔊 LION’S CROWN 
	SOUND SYSTEM – Warm up extérieur dès 18h\nSound System rochelais\, des ult
	ra motivés\, Lion’s Crown installe sa sono 2\nscoops en extérieur pour lan
	cer la vibe dès 18h. Une belle montée en pression\navec du bon roots et de
	 l’énergie à revendre !\n----------\n👉 Une soirée reggae dub sound system 
	mémorable à La Rochelle avec Daddy Mory\,\nRoots Tonality Sound System\, E
	skifaia\, Guiding Star et Lion’s Crown – vibes\ngaranties le 6 septembre 2
	025 au Philosophy Le Concept
URL:https://dubagenda.top/event/daddy-mory-roots-tonality-sound-system
GEO:46.1747414;-1.2024573
LOCATION:17000 La Rochelle // LKB - LKB Bâtiment\, 15\, Rue Elie Barreau\, 
	Parc d'activités Les Rivauds Nord\, La Rochelle\, Charente-Maritime\, Nouv
	elle-Aquitaine\, France métropolitaine\, 17000\, France
STATUS:CONFIRMED
CATEGORIES:2025,17,Sound System
X-ALT-DESC;FMTTYPE=text/html:<p>📆 Samedi 06 septembre 2025<br>📍 Philosophy 
	le Concept – La Rochelle<br>🏠 Adresse : 15 Rue Élie Barreau, 17000 La Roch
	elle<br>📞Téléphone infos : 05 33 06 97 39<br>🕕 Début des festivités dès 18
	h – jusqu’à 02h<br>🎟️ Billetterie : <a href="http://eskifaia.com" target="_
	blank">eskifaia.com</a> ( + web radio )<br>🌮 Bar et restauration disponibl
	es toute la soirée<br>🎤 DADDY MORY ( Raggasonic)<br>Membre du duo mythique
	 Raggasonic, Daddy Mory enchaîne les classiques depuis les années 90. Entr
	e dancehall conscient et reggae engagé, ses lyrics et son flow unique en f
	ont une figure incontournable de la scène francophone.<br>🎧 SELECTA LYCHAR
	 (Guiding Star Sound )<br>Membre du célèbre Guiding Star, sound vétéran fo
	ndé en 1993, Selecta Lychar propage une vibe authentique et une sélection 
	affûtée de gros dubplates.<br>🔊 ROOTS TONALITY SOUND SYSTEM – Full sound 4
	 scoops<br>Ras Belix - Mc Colgado et Selecta Got<br>Collectif activiste, R
	oots Tonality fait vivre la culture sound system avec leur propre sono art
	isanale. Leurs sélections roots &amp; stepper, entre spiritualité et puiss
	ance. Le sound est porté par une équipe soudée et passionnée. Pour l’occas
	ion, ils installent leur système complet en configuration 4 scoops pour fa
	ire vibrer le Philosophy de l’intérieur.<br>🎤 SELECTA BYM (Eskifaia Sound)
	<br>Fondateur d’Eskifaia, activiste infatigable, Selecta Bym sera là au mi
	cro au côté de Mc Colgado pour animer la soirée<br>🔊 LION’S CROWN SOUND SY
	STEM – Warm up extérieur dès 18h<br>Sound System rochelais, des ultra moti
	vés, Lion’s Crown installe sa sono 2 scoops en extérieur pour lancer la vi
	be dès 18h. Une belle montée en pression avec du bon roots et de l’énergie
	 à revendre !<br>----------<br>👉 Une soirée reggae dub sound system mémora
	ble à La Rochelle avec Daddy Mory, Roots Tonality Sound System, Eskifaia, 
	Guiding Star et Lion’s Crown – vibes garanties le 6 septembre 2025 au Phil
	osophy Le Concept</p>
BEGIN:VALARM
ACTION:DISPLAY
DESCRIPTION:Daddy Mory // Roots Tonality Sound System
TRIGGER:-PT1H
END:VALARM
END:VEVENT
END:VCALENDAR
