BEGIN:VCALENDAR
VERSION:2.0
CALSCALE:GREGORIAN
PRODID:adamgibbons/ics
METHOD:PUBLISH
X-PUBLISHED-TTL:PT1H
BEGIN:VEVENT
UID:161@dubagenda.top
SUMMARY:Corner Dub Mégascène // Get Up // Alpha Steppa & More
DTSTAMP:20260421T151512Z
DTSTART:20260612T153000Z
DTEND:20260612T233000Z
DESCRIPTION:🚨 CORNER DUB - NOUVEAUTÉ 2026 🚨\nCette année\, Mégascène s’asso
	cie à l’emblématique festival\n@dubcampfestivalofficial (association Get U
	p!) pour vous proposer un corner dub\ndédié au cœur du festival 🔊🔥\nUn esp
	ace spécialement imaginé pour vibrer au rythme du dub et des sound\nsystem
	s\, avec une programmation taillée pour les amateurs de basses profondes e
	t\nd’ambiances roots.\n🎶 Vendredi :\n🔥 @alphasteppa x @naijah_official\n🌿 
	Lo Free Meditation & Kaya Kaspar\n🔊 Soma Collectif\n🎛️ Anima Sound System\n
	🎶 Samedi :\n⚡ @mahom_official\n💥 Panzer Stepper\n🔊 Soma Collectif\n🎛️ Anima
	 Sound System\n👉 Deux jours de bass culture\, de vibes dub et de sélection
	s sound system pour\nune immersion totale dans cet univers.\n🎟️ Infos & bil
	letterie : https://megascene.org/billetterie\n[https://megascene.org/bille
	tterie]\n🐮 La team Mégascène 🐮
URL:https://dubagenda.top/event/corner-dub-megascene-get-up-alpha-steppa-an
	d-more
GEO:47.0202445;-1.5789828
LOCATION:44310 St Colomban // Megascene - Saint-Colomban\, Nantes\, Loire-A
	tlantique\, Pays de la Loire\, France métropolitaine\, 44310\, France
STATUS:CONFIRMED
CATEGORIES:Nantes,2026,Sound System,Festival
X-ALT-DESC;FMTTYPE=text/html:<p>🚨 CORNER DUB - NOUVEAUTÉ 2026 🚨<br>Cette an
	née, Mégascène s’associe à l’emblématique festival @dubcampfestivalofficia
	l (association Get Up!) pour vous proposer un corner dub dédié au cœur du 
	festival 🔊🔥<br>Un espace spécialement imaginé pour vibrer au rythme du dub
	 et des sound systems, avec une programmation taillée pour les amateurs de
	 basses profondes et d’ambiances roots.<br>🎶 Vendredi :<br>🔥 @alphasteppa 
	x @naijah_official <br>🌿 Lo Free Meditation &amp; Kaya Kaspar<br>🔊 Soma Co
	llectif<br>🎛️ Anima Sound System<br>🎶 Samedi :<br>⚡ @mahom_official <br>💥 P
	anzer Stepper<br>🔊 Soma Collectif<br>🎛️ Anima Sound System<br>👉 Deux jours 
	de bass culture, de vibes dub et de sélections sound system pour une immer
	sion totale dans cet univers.<br>🎟️ Infos &amp; billetterie : <a href="http
	s://megascene.org/billetterie" target="_blank">https://megascene.org/bille
	tterie</a><br>🐮 La team Mégascène 🐮</p>
BEGIN:VALARM
ACTION:DISPLAY
DESCRIPTION:Corner Dub Mégascène // Get Up // Alpha Steppa & More
TRIGGER:-PT1H
END:VALARM
END:VEVENT
END:VCALENDAR
