BEGIN:VCALENDAR
VERSION:2.0
CALSCALE:GREGORIAN
PRODID:adamgibbons/ics
METHOD:PUBLISH
X-PUBLISHED-TTL:PT1H
BEGIN:VEVENT
UID:79@dubagenda.top
SUMMARY:Chiken Inna Box
DTSTAMP:20260421T140608Z
DTSTART:20251122T183000Z
DTEND:20251123T003000Z
DESCRIPTION:🐔 Prochaine sortie de la sono ! Dans une nouvelle configuration
	 3 voies\nrootsman styli.\nPour partager ce moment ruff rakam soundsystem 
	& ruff a dub soundsystem \, from\nRennes city to challenge the big west.\n
	📍 Nous jouerons dans la grande salle de @coldcrash_nautile . @hocprod nous
	\nassurera le warm up sur leur sono dans la salle bar.\nPrix libre sur pla
	ce. Places limitées\, on vous attend de bon heure ( et\nnombreux.ses).\nSt
	rictly roots and culture\, fondation music for wise People.\nAffiche @atel
	ier.inna.box [http://atelier.inna.box]
URL:https://dubagenda.top/event/chiken-inna-box
GEO:47.1949813;-1.556941
LOCATION:44400 Rezé // Cold Crash - Brasserie Nautile\, 4\, Rue du Seil\, L
	e Port Au Blé\, Haute Île\, Rezé\, Nantes\, Loire-Atlantique\, Pays de la 
	Loire\, France métropolitaine\, 44400\, France
STATUS:CONFIRMED
CATEGORIES:2025,Nantes,Sound System
X-ALT-DESC;FMTTYPE=text/html:<p>🐔 Prochaine sortie de la sono ! Dans une no
	uvelle configuration 3 voies rootsman styli.<br>Pour partager ce moment ru
	ff rakam soundsystem &amp; ruff a dub soundsystem , from Rennes city to ch
	allenge the big west.<br>📍 Nous jouerons dans la grande salle de @coldcras
	h_nautile . @hocprod nous assurera le warm up sur leur sono dans la salle 
	bar.<br>Prix libre sur place. Places limitées, on vous attend de bon heure
	 ( et nombreux.ses).<br>Strictly roots and culture, fondation music for wi
	se People.<br>Affiche @<a target="_blank" href="http://atelier.inna.box">a
	telier.inna.box</a></p>
BEGIN:VALARM
ACTION:DISPLAY
DESCRIPTION:Chiken Inna Box
TRIGGER:-PT1H
END:VALARM
END:VEVENT
END:VCALENDAR
