BEGIN:VCALENDAR
VERSION:2.0
CALSCALE:GREGORIAN
PRODID:adamgibbons/ics
METHOD:PUBLISH
X-PUBLISHED-TTL:PT1H
BEGIN:VEVENT
UID:81@dubagenda.top
SUMMARY:CAPHARNAÜM // Propaganda & Anima Sound
DTSTAMP:20260421T151538Z
DTSTART:20251129T200000Z
DTEND:20251130T030000Z
DESCRIPTION:Propaganda et Anima'Sound Association présentent CAPHARNAÜM ! 🎇
	\n2 SELECTRESS aux énergies affûtées💥\n2 COLLECTIFS aux énergies débordant
	es💥\nOn prend le temps plus tard de vous présenter plus précisément chaque
	 artiste\nconvié.e\n// 21h00 - 04h00\n// 8€ en prévente et 10€ sur place\n
	// Domaine Josselin Bouet\, Le Pé de Sèvre\, Le Palet (44)\nPense à covoit
	urer et à ramener ton ecocup !\nArtwork : dr.becs_art
URL:https://dubagenda.top/event/capharnaum-propaganda-and-anima-sound
GEO:47.1474304;-1.3658611
LOCATION:44330 Le Pallet // Domaine Josselin Bouet - Le Pé de Sèvre\, Le Pa
	llet\, Nantes\, Loire-Atlantique\, Pays de la Loire\, France métropolitain
	e\, 44330\, France
STATUS:CONFIRMED
CATEGORIES:2025,Nantes,Sound System
X-ALT-DESC;FMTTYPE=text/html:<p>Propaganda et Anima'Sound Association prése
	ntent CAPHARNAÜM ! 🎇<br>2 SELECTRESS aux énergies affûtées💥<br>2 COLLECTIF
	S aux énergies débordantes💥<br>On prend le temps plus tard de vous présent
	er plus précisément chaque artiste convié.e<br>// 21h00 - 04h00<br>// 8€ e
	n prévente et 10€ sur place<br>// Domaine Josselin Bouet, Le Pé de Sèvre, 
	Le Palet (44)<br>Pense à covoiturer et à ramener ton ecocup !<br>Artwork :
	 dr.becs_art</p>
BEGIN:VALARM
ACTION:DISPLAY
DESCRIPTION:CAPHARNAÜM // Propaganda & Anima Sound
TRIGGER:-PT1H
END:VALARM
END:VEVENT
END:VCALENDAR
