BEGIN:VCALENDAR
VERSION:2.0
CALSCALE:GREGORIAN
PRODID:adamgibbons/ics
METHOD:PUBLISH
X-PUBLISHED-TTL:PT1H
BEGIN:VEVENT
UID:150@dubagenda.top
SUMMARY:Buss Di Dub // Truth & Right meets Musically Mad 
DTSTAMP:20260421T151323Z
DTSTART:20260327T210000Z
DTEND:20260328T040000Z
DESCRIPTION:TRUTH AND RIGHT SOUND Meets MUSICALLY MAD\nVENDREDI 27 MARS - D
	E 22 H A 5H - SALLE ALL GANG\n\nPour cette Buss di Dub\, le collectif Trut
	h and Right a décidé d’inviter\nMusically Mad qui est un sound system acti
	f de la scène Nantaise depuis de\nnombreuses années.\nMusically Mad c’est 
	une sono de Haute Qualité mais aussi des sélections pour\nenflammer la dan
	se.\nNous avons hâte de partager ce bon moment musical en perspective.\nSi
	 tu as raté la précédente ne loupe pas celle-ci\, la sélection s’annonce d
	e\nqualité dans un endroit original\, sympa mais surtout chaleureux.\nPour
	 ce Vendredi 27 Mars\, on vous propose une nuit de musique jamaïquaine pou
	r\nnotre bonheur à tous.\nSi tu n'es jamais venue\, je t’explique vite fai
	t le concept.\nLa salle est cachée au fond d’une impasse\, au début tu te 
	demandes si tu ne t’es\npas trompé mais une fois arrivé tu comprends vite 
	que nous sommes bien\ntranquilles dans cette salle\, que l’on peut jouer j
	usqu’au petit matin sur une\nsono sérieuse des vinyls ou des dubplates afi
	n de passer une belle soirée entre\namateur de musique Jamaïcaine sous tou
	tes les époques.\nLe tout dans un état d’esprit positif et festif !! Pas d
	e baddd vibes…\nOn compte sur toi !!!!\n\n\n📀📀🎵🎧🎶🎤\nAUX PLATINES\n\nMUSICA
	LLY MAD\nDepuis plus de 15 ans Musically Mad Sound System a pour but de pr
	omouvoir la\nmusique reggae en ce produisant dans la tradition des sound s
	ystem UK\, sur une\nsono artisanale inna roots & culture style.Depuis plus
	 de 15 ans Musically Mad\nSound System a pour but de promouvoir la musique
	 reggae en ce produisant dans la\ntradition des sound system UK\, sur une 
	sono artisanale inna roots & culture\nstyle.\n\nTRUTH AND RIGHT\nTruth and
	 Right est un sound qui fait parti des plus actifs en France. Fondé sur\nl
	’amour du Reggae du Dancehall mais aussi du Steppa\, leur sélection musica
	le est\ntrès large\, il est l’un des derniers sound français a savoir joue
	r du Dancehall\nmais aussi les fondations de la musique jamaïcaines. Ils a
	pportent une vibe\nunique qui allie tradition jamaïcaine et énergie modern
	e.\nFondé en 2002 par Puppa Dready \, le Truth and Right sound est une réf
	érence\nincontournable du reggae hexagonale. Après des débuts en radio sur
	 Radio Prun’\,\nils ont conquis la scène nantaise avec leur résidence embl
	ématique "Buss di\nDance".\nCe Vendredi 27 Mars\, Puppa Dready & Greg vous
	 proposeront un set unique allant\ndu Rocksteady\, Roots\, Rub a Dub\, au 
	Stepper\, mais aussi des Dubplates.\n\n📀📀🎵🎧🎶🎤\nAUX PLATINES\nMUSICALLY MAD
	\n- Instagram : https://www.instagram.com/musicallymad_sound/\n[https://ww
	w.instagram.com/musicallymad_sound/]\n\n\nTRUTH AND RIGHT SOUND\n- Instagr
	am : https://www.instagram.com/puppa_dready/\n[https://www.instagram.com/p
	uppa_dready/]\n- Youtube : https://www.youtube.com/user/TruthAndRightSound
	\n[https://www.youtube.com/user/TruthAndRightSound]\n\n📆🕦\nVENDREDI 27 MAR
	S de 22h à 05H00\n\n\n￼\nLieu : All Gangs\, 13 rue du marché commun\, 4430
	0 Nantes\n\n￼\nAccès : Tram ligne 1 arrêt Haluchère-Batignolles / Bus 11\n
	￼\nParking gratuit à proximité\n\n￼\n22h00 à 5h00\n\n￼\nPréventes : 10€\n\
	n￼\nCapacités limitées : 150 personnes\n\nLIEN BILLETERIE :\nhttps://www.h
	elloasso.com/associations/association-family-s-affair/evenements/buss-di-d
	ub-5\n[https://www.helloasso.com/associations/association-family-s-affair/
	evenements/buss-di-dub-5]\n\n
URL:https://dubagenda.top/event/buss-di-dub
GEO:47.2565939;-1.4998217
LOCATION:44300 Nantes // All Gang - 13\, Rue du Marché Commun\, Le Bois Bri
	and\, Doulon - Bottière\, Nantes\, Loire-Atlantique\, Pays de la Loire\, F
	rance métropolitaine\, 44300\, France
STATUS:CONFIRMED
CATEGORIES:Nantes,2026,Sound System
X-ALT-DESC;FMTTYPE=text/html:<p>TRUTH AND RIGHT SOUND Meets MUSICALLY MAD<b
	r>VENDREDI 27 MARS - DE 22 H A 5H - SALLE ALL GANG<br><br>Pour cette Buss 
	di Dub, le collectif Truth and Right a décidé d’inviter Musically Mad qui 
	est un sound system actif de la scène Nantaise depuis de nombreuses années
	.<br>Musically Mad c’est une sono de Haute Qualité mais aussi des sélectio
	ns pour enflammer la danse.<br>Nous avons hâte de partager ce bon moment m
	usical en perspective.<br>Si tu as raté la précédente ne loupe pas celle-c
	i, la sélection s’annonce de qualité dans un endroit original, sympa mais 
	surtout chaleureux.<br>Pour ce Vendredi 27 Mars, on vous propose une nuit 
	de musique jamaïquaine pour notre bonheur à tous.<br>Si tu n'es jamais ven
	ue, je t’explique vite fait le concept.<br>La salle est cachée au fond d’u
	ne impasse, au début tu te demandes si tu ne t’es pas trompé mais une fois
	 arrivé tu comprends vite que nous sommes bien tranquilles dans cette sall
	e, que l’on peut jouer jusqu’au petit matin sur une sono sérieuse des viny
	ls ou des dubplates afin de passer une belle soirée entre amateur de musiq
	ue Jamaïcaine sous toutes les époques.<br>Le tout dans un état d’esprit po
	sitif et festif !! Pas de baddd vibes…<br>On compte sur toi !!!!<br><br><b
	r>📀📀🎵🎧🎶🎤<br>AUX PLATINES<br><br>MUSICALLY MAD<br>Depuis plus de 15 ans Mus
	ically Mad Sound System a pour but de promouvoir la musique reggae en ce p
	roduisant dans la tradition des sound system UK, sur une sono artisanale i
	nna roots &amp; culture style.Depuis plus de 15 ans Musically Mad Sound Sy
	stem a pour but de promouvoir la musique reggae en ce produisant dans la t
	radition des sound system UK, sur une sono artisanale inna roots &amp; cul
	ture style.<br><br>TRUTH AND RIGHT<br>Truth and Right est un sound qui fai
	t parti des plus actifs en France. Fondé sur l’amour du Reggae du Dancehal
	l mais aussi du Steppa, leur sélection musicale est très large, il est l’u
	n des derniers sound français a savoir jouer du Dancehall mais aussi les f
	ondations de la musique jamaïcaines. Ils apportent une vibe unique qui all
	ie tradition jamaïcaine et énergie moderne.<br>Fondé en 2002 par Puppa Dre
	ady , le Truth and Right sound est une référence incontournable du reggae 
	hexagonale. Après des débuts en radio sur Radio Prun’, ils ont conquis la 
	scène nantaise avec leur résidence emblématique "Buss di Dance".<br>Ce Ven
	dredi 27 Mars, Puppa Dready &amp; Greg vous proposeront un set unique alla
	nt du Rocksteady, Roots, Rub a Dub, au Stepper, mais aussi des Dubplates.<
	br><br>📀📀🎵🎧🎶🎤<br>AUX PLATINES<br>MUSICALLY MAD<br>- Instagram : <a target=
	"_blank" href="https://www.instagram.com/musicallymad_sound/">https://www.
	instagram.com/musicallymad_sound/</a><br><br><br>TRUTH AND RIGHT SOUND<br>
	- Instagram : <a target="_blank" href="https://www.instagram.com/puppa_dre
	ady/">https://www.instagram.com/puppa_dready/</a><br>- Youtube : <a target
	="_blank" href="https://www.youtube.com/user/TruthAndRightSound">https://w
	ww.youtube.com/user/TruthAndRightSound</a><br><br>📆🕦<br>VENDREDI 27 MARS d
	e 22h à 05H00<br><br><br>￼<br>Lieu : All Gangs, 13 rue du marché commun, 4
	4300 Nantes<br><br>￼<br>Accès : Tram ligne 1 arrêt Haluchère-Batignolles /
	 Bus 11<br>￼<br>Parking gratuit à proximité<br><br>￼<br>22h00 à 5h00<br><b
	r>￼<br>Préventes : 10€<br><br>￼<br>Capacités limitées : 150 personnes<br><
	br>LIEN BILLETERIE :<br><a target="_blank" href="https://www.helloasso.com
	/associations/association-family-s-affair/evenements/buss-di-dub-5">https:
	//www.helloasso.com/associations/association-family-s-affair/evenements/bu
	ss-di-dub-5</a></p><p></p>
BEGIN:VALARM
ACTION:DISPLAY
DESCRIPTION:Buss Di Dub // Truth & Right meets Musically Mad 
TRIGGER:-PT1H
END:VALARM
END:VEVENT
END:VCALENDAR
