BEGIN:VCALENDAR
VERSION:2.0
CALSCALE:GREGORIAN
PRODID:adamgibbons/ics
METHOD:PUBLISH
X-PUBLISHED-TTL:PT1H
BEGIN:VEVENT
UID:75@dubagenda.top
SUMMARY:Buss Di Dub // Truth and Rights meets Dub Livity
DTSTAMP:20260421T151944Z
DTSTART:20251205T210000Z
DTEND:20251206T040000Z
DESCRIPTION:Pour cette Buss di Dub le collectif Tout and Right a décidé d’i
	nviter DUB LIVITY\ncar ce fut la première Buss di Dub et quel beau souveni
	r !!\nPour ce Vendredi 5 Décembre on vous propose une nuit de musique Jama
	ïquaines\npour le bonheur de tous.\nSi tu n'es jamais venue\, je t’expliqu
	e vite fait le concept.\nLa salle est cachée au fond d’une impasse\, au dé
	but tu te demandes si tu ne t’es\npas trompé mais une fois arrivé tu compr
	ends vite que nous sommes bien\ntranquilles dans cette salle\, que l’on pe
	ut jouer jusqu’au petit matin sur une\nsono sérieuse des vinyls ou des dub
	plates affûtés afin de passer une belle\nsoirée entre amateur de musique J
	amaïcaine sous toutes les époques.\nLe tout dans un état d’esprit positif 
	et festif !! Pas de baddd vibes…\nOn compte sur toi !!!!\n\n\n📀📀🎵🎧🎶🎤\nAUX 
	PLATINES\n\n\nDUB LIVITY SOUND SYSTEM\nFer de lance du mouvement sound-sys
	tem Roots'n'Dub en Normandie\, le Dub Livity\nSound System a maintenant po
	sé ses boxs en terre nantaise depuis plusieurs\nannées!\nFormé en 2004 par
	 des passionnés de musique Jamaïcaine\, l'équipe multiplie les\névénements
	\, côtoyant ainsi les plus grands noms du style\, Jah Shaka\, Channel\nOne
	\, Aba Shanti\, Iration Steppas\, The Disciples\, Jah Tubby’s\, Bush Chemi
	sts et\nbien d’autres.\nA la fois animateurs de radios\, disquaires et pro
	ducteurs de 3 labels (Dub\nLivity Music\, Skank O’Clock Records\, French T
	own Hi Fi)\, ils acquièrent une\nexpérience solide qui leur permet de prod
	uire des danses de caractère dans la\npure tradition des sounds-systems UK
	.\nLes rythmes sont soutenus\, les basses sont physiques et la recherche d
	u mystic\nest fondamentale.\nQue ce soit au son des roots des 70's ou à ce
	lui des derniers steppers\, Dub\nLivity impose une énergie qui appelle le 
	public à se rassembler autour de sujets\nconscients et militants.DUB LIVIT
	Y SOUND SYSTEM\nFer de lance du mouvement sound-system Roots'n'Dub en Norm
	andie\, le Dub Livity\nSound System a maintenant posé ses boxs en terre na
	ntaise depuis plusieurs\nannées!\nFormé en 2004 par des passionnés de musi
	que Jamaïcaine\, l'équipe multiplie les\névénements\, côtoyant ainsi les p
	lus grands noms du style\, Jah Shaka\, Channel\nOne\, Aba Shanti\, Iration
	 Steppas\, The Disciples\, Jah Tubby’s\, Bush Chemists et\nbien d’autres.\
	nA la fois animateurs de radios\, disquaires et producteurs de 3 labels (D
	ub\nLivity Music\, Skank O’Clock Records\, French Town Hi Fi)\, ils acquiè
	rent une\nexpérience solide qui leur permet de produire des danses de cara
	ctère dans la\npure tradition des sounds-systems UK.\nLes rythmes sont sou
	tenus\, les basses sont physiques et la recherche du mystic\nest fondament
	ale.\nQue ce soit au son des roots des 70's ou à celui des derniers steppe
	rs\, Dub\nLivity impose une énergie qui appelle le public à se rassembler 
	autour de sujets\nconscients et militants.\n\nTRUTH AND RIGHT\nTruth and R
	ight est un sound qui fait parti des plus actifs en France. Fondé sur\nl’a
	mour du Reggae du Dancehall mais aussi du Steppa\, leur sélection musicale
	 est\ntrès large\, il est l’un des derniers sound français a savoir jouer 
	du Dancehall\nmais aussi les fondations de la musique jamaïcaines. Ils app
	ortent une vibe\nunique qui allie tradition jamaïcaine et énergie moderne.
	\nFondé en 2002 par Puppa Dready \, le Truth and Right sound est une référ
	ence\nincontournable du reggae hexagonale. Après des débuts en radio sur R
	adio Prun’\,\nils ont conquis la scène nantaise avec leur résidence emblém
	atique "Buss di\nDance".\nCe samedi 22 Mars\, Puppa Dready & Greg vous pro
	poseront un set unique allant du\nRocksteady\, Roots\, Rub a Dub\, au Step
	per\, mais aussi des Dubplates.\nLe tout amplifié par la sono massive de D
	UBLIVITY pour une expérience sonore\nincomparable qui te fera vibrer toute
	 la nuit.\n📀📀🎵🎧🎶🎤\nAUX PLATINES\nDUB LIVITY\n- Instagram : https://www.ins
	tagram.com/dublivitysoundsystem/?hl=fr\n[https://www.instagram.com/dublivi
	tysoundsystem/?hl=fr]\n- Youtube : https://www.youtube.com/@DubLivitySound
	System\n[https://www.youtube.com/@DubLivitySoundSystem]\n\n\nTRUTH AND RIG
	HT SOUND\n- Instagram : https://www.instagram.com/puppa_dready/\n[https://
	www.instagram.com/puppa_dready/]\n- Youtube : https://www.youtube.com/user
	/TruthAndRightSound\n[https://www.youtube.com/user/TruthAndRightSound]\n\n
	📆🕦\nVENDREDI 5 DÉCEMBRE de 22h à 05H00\n\n\n￼\nLieu : All Gangs\, 13 rue d
	u marché commun\, 44300 Nantes\n\n￼\nAccès : Tram ligne 1 arrêt Haluchère-
	Batignolles / Bus 11\n￼\nParking gratuit à proximité\n\n￼\n22h00 à 5h00\n\
	n￼\nPréventes : 10€\nSur place : 12€\n￼\nCapacités limitées : 150 personne
	s
URL:https://dubagenda.top/event/buss-di-dub-truth-and-rights-meets-dub-livi
	ty
GEO:47.2565939;-1.4998217
LOCATION:44300 Nantes // All Gang - 13\, Rue du Marché Commun\, Le Bois Bri
	and\, Doulon - Bottière\, Nantes\, Loire-Atlantique\, Pays de la Loire\, F
	rance métropolitaine\, 44300\, France
STATUS:CONFIRMED
CATEGORIES:2025,Nantes,Sound System
X-ALT-DESC;FMTTYPE=text/html:<p>Pour cette Buss di Dub le collectif Tout an
	d Right a décidé d’inviter DUB LIVITY car ce fut la première Buss di Dub e
	t quel beau souvenir !!<br>Pour ce Vendredi 5 Décembre on vous propose une
	 nuit de musique Jamaïquaines pour le bonheur de tous.<br>Si tu n'es jamai
	s venue, je t’explique vite fait le concept.<br>La salle est cachée au fon
	d d’une impasse, au début tu te demandes si tu ne t’es pas trompé mais une
	 fois arrivé tu comprends vite que nous sommes bien tranquilles dans cette
	 salle, que l’on peut jouer jusqu’au petit matin sur une sono sérieuse des
	 vinyls ou des dubplates affûtés afin de passer une belle soirée entre ama
	teur de musique Jamaïcaine sous toutes les époques.<br>Le tout dans un éta
	t d’esprit positif et festif !! Pas de baddd vibes…<br>On compte sur toi !
	!!!<br><br><br>📀📀🎵🎧🎶🎤<br>AUX PLATINES<br><br><br>DUB LIVITY SOUND SYSTEM<b
	r>Fer de lance du mouvement sound-system Roots'n'Dub en Normandie, le Dub 
	Livity Sound System a maintenant posé ses boxs en terre nantaise depuis pl
	usieurs années!<br>Formé en 2004 par des passionnés de musique Jamaïcaine,
	 l'équipe multiplie les événements, côtoyant ainsi les plus grands noms du
	 style, Jah Shaka, Channel One, Aba Shanti, Iration Steppas, The Disciples
	, Jah Tubby’s, Bush Chemists et bien d’autres.<br>A la fois animateurs de 
	radios, disquaires et producteurs de 3 labels (Dub Livity Music, Skank O’C
	lock Records, French Town Hi Fi), ils acquièrent une expérience solide qui
	 leur permet de produire des danses de caractère dans la pure tradition de
	s sounds-systems UK.<br>Les rythmes sont soutenus, les basses sont physiqu
	es et la recherche du mystic est fondamentale.<br>Que ce soit au son des r
	oots des 70's ou à celui des derniers steppers, Dub Livity impose une éner
	gie qui appelle le public à se rassembler autour de sujets conscients et m
	ilitants.DUB LIVITY SOUND SYSTEM<br>Fer de lance du mouvement sound-system
	 Roots'n'Dub en Normandie, le Dub Livity Sound System a maintenant posé se
	s boxs en terre nantaise depuis plusieurs années!<br>Formé en 2004 par des
	 passionnés de musique Jamaïcaine, l'équipe multiplie les événements, côto
	yant ainsi les plus grands noms du style, Jah Shaka, Channel One, Aba Shan
	ti, Iration Steppas, The Disciples, Jah Tubby’s, Bush Chemists et bien d’a
	utres.<br>A la fois animateurs de radios, disquaires et producteurs de 3 l
	abels (Dub Livity Music, Skank O’Clock Records, French Town Hi Fi), ils ac
	quièrent une expérience solide qui leur permet de produire des danses de c
	aractère dans la pure tradition des sounds-systems UK.<br>Les rythmes sont
	 soutenus, les basses sont physiques et la recherche du mystic est fondame
	ntale.<br>Que ce soit au son des roots des 70's ou à celui des derniers st
	eppers, Dub Livity impose une énergie qui appelle le public à se rassemble
	r autour de sujets conscients et militants.<br><br>TRUTH AND RIGHT<br>Trut
	h and Right est un sound qui fait parti des plus actifs en France. Fondé s
	ur l’amour du Reggae du Dancehall mais aussi du Steppa, leur sélection mus
	icale est très large, il est l’un des derniers sound français a savoir jou
	er du Dancehall mais aussi les fondations de la musique jamaïcaines. Ils a
	pportent une vibe unique qui allie tradition jamaïcaine et énergie moderne
	.<br>Fondé en 2002 par Puppa Dready , le Truth and Right sound est une réf
	érence incontournable du reggae hexagonale. Après des débuts en radio sur 
	Radio Prun’, ils ont conquis la scène nantaise avec leur résidence embléma
	tique "Buss di Dance".<br>Ce samedi 22 Mars, Puppa Dready &amp; Greg vous 
	proposeront un set unique allant du Rocksteady, Roots, Rub a Dub, au Stepp
	er, mais aussi des Dubplates.<br>Le tout amplifié par la sono massive de D
	UBLIVITY pour une expérience sonore incomparable qui te fera vibrer toute 
	la nuit.<br>📀📀🎵🎧🎶🎤<br>AUX PLATINES<br>DUB LIVITY<br>- Instagram : <a targe
	t="_blank" href="https://www.instagram.com/dublivitysoundsystem/?hl=fr">ht
	tps://www.instagram.com/dublivitysoundsystem/?hl=fr</a><br>- Youtube : <a 
	target="_blank" href="https://www.youtube.com/@DubLivitySoundSystem">https
	://www.youtube.com/@DubLivitySoundSystem</a><br><br><br>TRUTH AND RIGHT SO
	UND<br>- Instagram : <a target="_blank" href="https://www.instagram.com/pu
	ppa_dready/">https://www.instagram.com/puppa_dready/</a><br>- Youtube : <a
	 target="_blank" href="https://www.youtube.com/user/TruthAndRightSound">ht
	tps://www.youtube.com/user/TruthAndRightSound</a><br><br>📆🕦<br>VENDREDI 5 
	DÉCEMBRE de 22h à 05H00<br><br><br>￼<br>Lieu : All Gangs, 13 rue du marché
	 commun, 44300 Nantes<br><br>￼<br>Accès : Tram ligne 1 arrêt Haluchère-Bat
	ignolles / Bus 11<br>￼<br>Parking gratuit à proximité<br><br>￼<br>22h00 à 
	5h00<br><br>￼<br>Préventes : 10€<br>Sur place : 12€<br>￼<br>Capacités limi
	tées : 150 personnes</p>
BEGIN:VALARM
ACTION:DISPLAY
DESCRIPTION:Buss Di Dub // Truth and Rights meets Dub Livity
TRIGGER:-PT1H
END:VALARM
END:VEVENT
END:VCALENDAR
