BEGIN:VCALENDAR
VERSION:2.0
CALSCALE:GREGORIAN
PRODID:adamgibbons/ics
METHOD:PUBLISH
X-PUBLISHED-TTL:PT1H
BEGIN:VEVENT
UID:118@dubagenda.top
SUMMARY:Buss Di Dub // Truth and Right meets Melodub
DTSTAMP:20260421T151852Z
DTSTART:20260213T210000Z
DTEND:20260214T040000Z
DESCRIPTION:VENDREDI 7 FEVRIER - DE 22 H A 5H - SALLE ALL GANG\n\nPour cett
	e Buss di Dub\, le collectif Tout and Right a décidé d’inviter MELLOW\nDUB
	 car nous sommes amis depuis de nombreuses années et enfin nous allons fai
	re\nune soirée ensemble\, oui c’est historique.\nPour ce Vendredi 7 Févrie
	r\, on vous propose une nuit de musique jamaïquaine pour\nnotre bonheur à 
	tous.\nSi tu n'es jamais venue\, je t’explique vite fait le concept.\nLa s
	alle est cachée au fond d’une impasse\, au début tu te demandes si tu ne t
	’es\npas trompé mais une fois arrivé tu comprends vite que nous sommes bie
	n\ntranquilles dans cette salle\, que l’on peut jouer jusqu’au petit matin
	 sur une\nsono sérieuse des vinyls ou des dubplates affûtés afin de passer
	 une belle\nsoirée entre amateur de musique Jamaïcaine sous toutes les épo
	ques.\nLe tout dans un état d’esprit positif et festif !! Pas de baddd vib
	es…\nOn compte sur toi !!!!\n\n\n📀📀🎵🎧🎶🎤\nAUX PLATINES\n\n\nMELLOW DUB SOUN
	D SYSTEM\nRésident et organisateur des soirées Play It Loud\, Melodub Soun
	d System est un\nprojet créé par KLM (opérateur) et JAHRAW (sélécta). Pass
	ionnés de Reggae et de\nsound system sous ses différentes formes\, ils prô
	nent aussi la culture du\nD.I.Y.�C’est au cours de l’année 2012 que les pr
	emières boxs ont été construites\nde manière artisanale. Très rapidement l
	e sound est passé de 2 à 6 bass. C’est\nfinalement à l’été 2018 que le sou
	nd system est passé à 9 bass et inauguré la\nmême année à l’occasion du Du
	b Camp Festival.\nLes sessions et les sound meeting se sont enchaînés au f
	ur et à mesure des\nannées en France et en Europe (Dub Club\, Dub camp\, E
	rva festival\, Positive dub\,\nSeasplash\, Outerdub\, Bordeaux Dub School\
	, Dubwise United\, Protect the Dub\,\nAlp’in Dub Festival\,ect… ) et ont p
	ermis au crew de partager des dances avec des\nartistes tels que Iration S
	teppas\, Channel One\, Legal Shot\, Agobun\, Chalice\,\nDandelion\, Dubate
	ers\, Dawa Hifi\, Dub Addict\, Conscious Sound\, Digitron\, I TIST\,\nFree
	dom Masses\, Moa Ambessa\, Dub Kazman\, Lion’s Den’s ou encore Haspar. Ins
	pirés\npar des crew tels que Lion Roots\, King Earthquake et Blackboard Ju
	ngle\, Aba\nShanti pour ne citer qu’eux\, mais aussi par des groupes ou ar
	tistes tels que\nTwinkles Brothers\, Dub Judah\, Gregory Isaac\, Midnight\
	, Brain Damage et High\nTone\, les sélections de crew traversent plusieurs
	 styles du Roots au Dub\nstepper.\nTRUTH AND RIGHT\nTruth and Right est un
	 sound qui fait parti des plus actifs en France. Fondé sur\nl’amour du Reg
	gae du Dancehall mais aussi du Steppa\, leur sélection musicale est\ntrès 
	large\, il est l’un des derniers sound français a savoir jouer du Dancehal
	l\nmais aussi les fondations de la musique jamaïcaines. Ils apportent une 
	vibe\nunique qui allie tradition jamaïcaine et énergie moderne.\nFondé en 
	2002 par Puppa Dready \, le Truth and Right sound est une référence\nincon
	tournable du reggae hexagonale. Après des débuts en radio sur Radio Prun’\
	,\nils ont conquis la scène nantaise avec leur résidence emblématique "Bus
	s di\nDance".\nCe samedi 22 Mars\, Puppa Dready & Greg vous proposeront un
	 set unique allant du\nRocksteady\, Roots\, Rub a Dub\, au Stepper\, mais 
	aussi des Dubplates.\nLe tout amplifié par la sono massive de DUBLIVITY po
	ur une expérience sonore\nincomparable qui te fera vibrer toute la nuit.\n
	📀📀🎵🎧🎶🎤\nAUX PLATINES\nMELODUB\n- Instagram : https://www.instagram.com/mel
	odub/\n[https://www.instagram.com/melodub/]\n\n\nTRUTH AND RIGHT SOUND\n- 
	Instagram : https://www.instagram.com/puppa_dready/\n[https://www.instagra
	m.com/puppa_dready/]\n- Youtube : https://www.youtube.com/user/TruthAndRig
	htSound\n[https://www.youtube.com/user/TruthAndRightSound]\n\n📆🕦\nVENDREDI
	 7 FEVRIER de 22h à 05H00\n\n\n￼\nLieu : All Gangs\, 13 rue du marché comm
	un\, 44300 Nantes\n\n￼\nAccès : Tram ligne 1 arrêt Haluchère-Batignolles /
	 Bus 11\n￼\nParking gratuit à proximité\n\n￼\n22h00 à 5h00\n\n￼\nPréventes
	 : 10€\n\n￼\nCapacités limitées : 150 personnes
URL:https://dubagenda.top/event/buss-di-dub-truth-and-right-meets-melodub
GEO:47.2565939;-1.4998217
LOCATION:44300 Nantes // All Gang - 13\, Rue du Marché Commun\, Le Bois Bri
	and\, Doulon - Bottière\, Nantes\, Loire-Atlantique\, Pays de la Loire\, F
	rance métropolitaine\, 44300\, France
STATUS:CONFIRMED
CATEGORIES:Nantes,2026,Sound System
X-ALT-DESC;FMTTYPE=text/html:<p>VENDREDI 7 FEVRIER - DE 22 H A 5H - SALLE A
	LL GANG<br><br>Pour cette Buss di Dub, le collectif Tout and Right a décid
	é d’inviter MELLOW DUB car nous sommes amis depuis de nombreuses années et
	 enfin nous allons faire une soirée ensemble, oui c’est historique.<br>Pou
	r ce Vendredi 7 Février, on vous propose une nuit de musique jamaïquaine p
	our notre bonheur à tous.<br>Si tu n'es jamais venue, je t’explique vite f
	ait le concept.<br>La salle est cachée au fond d’une impasse, au début tu 
	te demandes si tu ne t’es pas trompé mais une fois arrivé tu comprends vit
	e que nous sommes bien tranquilles dans cette salle, que l’on peut jouer j
	usqu’au petit matin sur une sono sérieuse des vinyls ou des dubplates affû
	tés afin de passer une belle soirée entre amateur de musique Jamaïcaine so
	us toutes les époques.<br>Le tout dans un état d’esprit positif et festif 
	!! Pas de baddd vibes…<br>On compte sur toi !!!!<br><br><br>📀📀🎵🎧🎶🎤<br>AUX 
	PLATINES<br><br><br>MELLOW DUB SOUND SYSTEM<br>Résident et organisateur de
	s soirées Play It Loud, Melodub Sound System est un projet créé par KLM (o
	pérateur) et JAHRAW (sélécta). Passionnés de Reggae et de sound system sou
	s ses différentes formes, ils prônent aussi la culture du D.I.Y.�C’est au 
	cours de l’année 2012 que les premières boxs ont été construites de manièr
	e artisanale. Très rapidement le sound est passé de 2 à 6 bass. C’est fina
	lement à l’été 2018 que le sound system est passé à 9 bass et inauguré la 
	même année à l’occasion du Dub Camp Festival.<br>Les sessions et les sound
	 meeting se sont enchaînés au fur et à mesure des années en France et en E
	urope (Dub Club, Dub camp, Erva festival, Positive dub, Seasplash, Outerdu
	b, Bordeaux Dub School, Dubwise United, Protect the Dub, Alp’in Dub Festiv
	al,ect… ) et ont permis au crew de partager des dances avec des artistes t
	els que Iration Steppas, Channel One, Legal Shot, Agobun, Chalice, Dandeli
	on, Dubateers, Dawa Hifi, Dub Addict, Conscious Sound, Digitron, I TIST, F
	reedom Masses, Moa Ambessa, Dub Kazman, Lion’s Den’s ou encore Haspar. Ins
	pirés par des crew tels que Lion Roots, King Earthquake et Blackboard Jung
	le, Aba Shanti pour ne citer qu’eux, mais aussi par des groupes ou artiste
	s tels que Twinkles Brothers, Dub Judah, Gregory Isaac, Midnight, Brain Da
	mage et High Tone, les sélections de crew traversent plusieurs styles du R
	oots au Dub stepper.<br>TRUTH AND RIGHT<br>Truth and Right est un sound qu
	i fait parti des plus actifs en France. Fondé sur l’amour du Reggae du Dan
	cehall mais aussi du Steppa, leur sélection musicale est très large, il es
	t l’un des derniers sound français a savoir jouer du Dancehall mais aussi 
	les fondations de la musique jamaïcaines. Ils apportent une vibe unique qu
	i allie tradition jamaïcaine et énergie moderne.<br>Fondé en 2002 par Pupp
	a Dready , le Truth and Right sound est une référence incontournable du re
	ggae hexagonale. Après des débuts en radio sur Radio Prun’, ils ont conqui
	s la scène nantaise avec leur résidence emblématique "Buss di Dance".<br>C
	e samedi 22 Mars, Puppa Dready &amp; Greg vous proposeront un set unique a
	llant du Rocksteady, Roots, Rub a Dub, au Stepper, mais aussi des Dubplate
	s.<br>Le tout amplifié par la sono massive de DUBLIVITY pour une expérienc
	e sonore incomparable qui te fera vibrer toute la nuit.<br>📀📀🎵🎧🎶🎤<br>AUX P
	LATINES<br>MELODUB<br>- Instagram : <a target="_blank" href="https://www.i
	nstagram.com/melodub/">https://www.instagram.com/melodub/</a><br><br><br>T
	RUTH AND RIGHT SOUND<br>- Instagram : <a target="_blank" href="https://www
	.instagram.com/puppa_dready/">https://www.instagram.com/puppa_dready/</a><
	br>- Youtube : <a target="_blank" href="https://www.youtube.com/user/Truth
	AndRightSound">https://www.youtube.com/user/TruthAndRightSound</a><br><br>
	📆🕦<br>VENDREDI 7 FEVRIER de 22h à 05H00<br><br><br>￼<br>Lieu : All Gangs, 
	13 rue du marché commun, 44300 Nantes<br><br>￼<br>Accès : Tram ligne 1 arr
	êt Haluchère-Batignolles / Bus 11<br>￼<br>Parking gratuit à proximité<br><
	br>￼<br>22h00 à 5h00<br><br>￼<br>Préventes : 10€<br><br>￼<br>Capacités lim
	itées : 150 personnes</p>
BEGIN:VALARM
ACTION:DISPLAY
DESCRIPTION:Buss Di Dub // Truth and Right meets Melodub
TRIGGER:-PT1H
END:VALARM
END:VEVENT
END:VCALENDAR
