BEGIN:VCALENDAR
VERSION:2.0
CALSCALE:GREGORIAN
PRODID:adamgibbons/ics
METHOD:PUBLISH
X-PUBLISHED-TTL:PT1H
BEGIN:VEVENT
UID:197@dubagenda.top
SUMMARY:Buss Di Dub #6 // TRUTH AND RIGHT SOUND Meet IRIE ITES & ZION GATE 
	HI-FI
DTSTAMP:20260422T190215Z
DTSTART:20260508T200000Z
DTEND:20260509T030000Z
DESCRIPTION:BUSS DI DUB\nTRUTH AND RIGHT SOUND Meet IRIE ITES & ZION GATE H
	I-FI\nVENDREDI 8 MAI - DE 22 H A 5H - SALLE ALL GANG\n\nPour cette Buss di
	 Dub\, le collectif Truth and Right a décidé de fêter a nouveau\nl’anniver
	saire du Sound créé en 2002.\nLa grande nouveauté de cette soirée c’est qu
	’elle sera sonorisée par TRUTH AND\nRIGHT SOUND SYSTEM.\nOn se serre la ce
	inture depuis des mois pour pouvoir enfin sonoriser nos\névènements\, on s
	e lance\, cette soirée sera la première.\nPour cette édition nous sommes t
	rès fiers d’inviter de vieux amis\, IRIE ITES et\nZION GATE HI-FI.\nDurant
	 cette soirée le Roots sera à l’honneur\, si tu veux entendre des dubplate
	s\nexclusifs de IRIE ITES ou des sélections pointu dont ZION GATE HI-FI a 
	le secret\nmaintenant tu sais ou cela va se passer.\nNous avons hâte de pa
	rtager ce bon moment musical en perspective.\nTu as raté la dernière ne lo
	upe pas celle-ci\, la sélection s’annonce de qualité\ndans un endroit orig
	inal\, sympa mais surtout chaleureux.\nPour ce Vendredi 8 Mai\, on vous pr
	opose une nuit de musique jamaïquaine pour\nnotre bonheur à tous.\nSi tu n
	'es jamais venue\, je t’explique vite fait le concept.\nLa salle est caché
	e au fond d’une impasse\, au début tu te demandes si tu ne t’es\npas tromp
	é mais une fois arrivé tu comprends vite que nous sommes bien\ntranquilles
	 dans cette salle\, que l’on peut jouer jusqu’au petit matin sur une\nsono
	 sérieuse des vinyls ou des dubplates afin de passer une belle soirée entr
	e\namateur de musique Jamaïcaine sous toutes les époques.\nLe tout dans un
	 état d’esprit positif et festif !! Pas de baddd vibes…\nOn compte sur toi
	 !!!!\n\n\n\n📀📀🎵🎧🎶🎤\nAUX PLATINES\n\nZION GATE\n\nCréé en 1996 à l’initiat
	ive de Ras Abubakar\, Zion Gate Hi-Fi est un sound system\nbasé à Nantes. 
	Rejoint par Miniman en 1998\, celui-ci sera pendant cinq ans\nl’opérateur 
	du sound. Musicien\, il joue du mélodica sur les versions et compose\ndes 
	riddims \; c’est ainsi que parallèlement à la partie scénique\, le label Z
	ion\nGate Music voit le jour.\nLe premier maxi de Miniman sort en 2001\, i
	l sera très bien accueilli par la\nscène UK\, et sera notamment joué par J
	ah Shaka et Channel One. C’est à cette\népoque que Ras Mac Bean\, chanteur
	 originaire du Guyana et fraichement arrivé en\nFrance rejoint le son. Un 
	an plus tard\, c’est Nassadjah\, chanteur originaire des\nComores et basé 
	à Nantes\, qui se joint à son tour à la formation.\n2003 voit\, à la fois\
	, le départ de Miniman et de Ras Mac Bean\, qui vont tous\ndeux se consacr
	er à une carrière solo et à leur premier album. Malgré leur\ndépart\, Ils 
	continuent tous les deux à collaborer avec le son et le label de\nmanière 
	occasionnelle.\nLa formation actuelle est centrée autour du noyau dur\, Ra
	s Abubakar (sélecteur)\,\nNassadjah (chanteur)\, Prince (MC)\, Mark « Most
	ec » Skeete (opérateur) et I Youth\nTubby (2eme opérateur). De fait\, la f
	ormation est à géométrie variable et peut\ns’adapter suivant le souhait de
	s organisateurs. Zion Gate Hi-Fi s’est déjà\nproduit sur de nombreuses scè
	nes et festivals dans l’hexagone\, mais aussi à La\nRéunion\, en Belgique\
	, en Allemagne\, en Finlande\, en Suède\, en Espagne et en\nSuisse.\nZion 
	Gate travaille aussi avec d’autres artistes tels que Lorenzo\, Murray Man 
	et\nNereus Joseph avec lesquels de nombreuses collaborations ont vu le jou
	r sur le\nlabel. Far East (mélodica)\, Olivier Corre (piano wurlitzer) et 
	Charlotte Meas\n(flute et saxophone) jouent aussi régulièrement avec Zion 
	Gate et apportent une\ntouche instrumentale au sound system.\nLa sono est 
	construite sur le modèle des sons UK\, c’est à dire une sono\nartisanale c
	apable de restituer des aigus précis\, des médiums bien définis et\ndes fr
	équences basses profondes et physiques ! Les sélections sont jouées de\nma
	nière traditionnelle sur une seule platine\, avec un pré-ampli\, une sirèn
	e\, et\nune chambre d écho. Le style de sélection est résolument « Roots a
	nd Culture« \,\ndans un registre qui va du Ska et du Rocksteady au Early R
	eggae du milieu des\nannées 70\, du style Rockers au Steppers du début des
	 années 80\, du Rub a Dub au\nEarly Digital jusqu’au Roots actuel.\nZion G
	ate Hi-Fi est un sound system engagé dans la promotion de la culture et du
	\nmode de vie Rastafari.\n\nIRIE ITES\nIRIE ITES est un collectif ayant dé
	buté en 1999. Avec plus de 1500 dates à son\nactif\, le sound joue partout
	 en Europe que ce soit en DJ Set ou accompagné\nd’artistes internationaux.
	 Fort d’une grosse box de dubplates et exclusifs du\nlabel Irie Ites Recor
	ds\, le sound se démarque par une sélection originale et\naffutée.\nCréé e
	n 2001\, le label Irie Ites Records est l’un des plus importants labels\nr
	eggae européens de ces 20 dernières années. Ayant collaboré avec la crème 
	des\nartistes tels que Sizzla\, Capleton\, Anthony B\, Lutan Fyah\, Chezid
	ek\, Fanta\nMojah\, Morgan Heritage\, Bounty Killer\, Perfect Giddimani ma
	is aussi John Holt\,\nEek A Mouse\, Frankie Paul\, Glen Washington\, King 
	Kong\, Trinity\,… Irie Ites\nRecords n’a plus rien à prouver.\nLe label Ir
	ie Ites en quelques chiffres :\nC’est presque 400 morceaux sortis soit 23 
	projets en CD\, plus de 80 singles 45T\,\nplus d’une dizaine de maxis 10’’
	 et 12’’ et 8 albums 33T ...\nDe nombreux morceaux et projets sortiront da
	ns le futur car le label continue\nencore d’enregistrer de nouveaux morcea
	ux chaque semaine.\n\n\n\nTRUTH AND RIGHT\nTruth and Right est un sound qu
	i fait parti des plus actifs en France. Fondé sur\nl’amour du Reggae du Da
	ncehall mais aussi du Steppa\, leur sélection musicale est\ntrès large\, i
	l est l’un des derniers sound français a savoir jouer du Dancehall\nmais a
	ussi les fondations de la musique jamaïcaines. Ils apportent une vibe\nuni
	que qui allie tradition jamaïcaine et énergie moderne.\nFondé en 2002 par 
	Puppa Dready \, le Truth and Right sound est une référence\nincontournable
	 du reggae hexagonale. Après des débuts en radio sur Radio Prun’\,\nils on
	t conquis la scène nantaise avec leur résidence emblématique "Buss di\nDan
	ce".\nCe Vendredi 27 Mars\, Puppa Dready & Greg vous proposeront un set un
	ique allant\ndu Rocksteady\, Roots\, Rub a Dub\, au Stepper\, mais aussi d
	es Dubplates.\n\n📀📀🎵🎧🎶🎤\nAUX PLATINES\n\nZION GATE\n- Instagram : https://
	www.instagram.com/zion_gate_hi_fi/\n[https://www.instagram.com/zion_gate_h
	i_fi/]\n\nIRIE ITES\n- Instagram : https://www.instagram.com/irie_ites_off
	icial/\n[https://www.instagram.com/irie_ites_official/]\n\nTRUTH AND RIGHT
	 SOUND\n- Instagram : https://www.instagram.com/puppa_dready/\n[https://ww
	w.instagram.com/puppa_dready/]\n\n\n📆🕦\nVENDREDI 8 MAI de 22h à 05H00\n\n\
	n￼\nLieu : All Gangs\, 13 rue du marché commun\, 44300 Nantes\n\n￼\nAccès 
	: Tram ligne 1 arrêt Haluchère-Batignolles / Bus 11\n￼\nParking gratuit à 
	proximité\n\n￼\n22h00 à 5h00\n\n￼\nPréventes : 10€\n\n￼\nCapacités limitée
	s : 150 personnes
URL:https://dubagenda.top/event/buss-di-dub-6-truth-and-right-sound-meet-ir
	ie-ites-and-zion-gate-hi-fi
GEO:47.2565939;-1.4998217
LOCATION:44300 Nantes // All Gang - 13\, Rue du Marché Commun\, Le Bois Bri
	and\, Doulon - Bottière\, Nantes\, Loire-Atlantique\, Pays de la Loire\, F
	rance métropolitaine\, 44300\, France
STATUS:CONFIRMED
CATEGORIES:Nantes,2026,Sound System
X-ALT-DESC;FMTTYPE=text/html:<p>BUSS DI DUB<br>TRUTH AND RIGHT SOUND Meet I
	RIE ITES &amp; ZION GATE HI-FI<br>VENDREDI 8 MAI - DE 22 H A 5H - SALLE AL
	L GANG<br><br>Pour cette Buss di Dub, le collectif Truth and Right a décid
	é de fêter a nouveau l’anniversaire du Sound créé en 2002.<br>La grande no
	uveauté de cette soirée c’est qu’elle sera sonorisée par TRUTH AND RIGHT S
	OUND SYSTEM.<br>On se serre la ceinture depuis des mois pour pouvoir enfin
	 sonoriser nos évènements, on se lance, cette soirée sera la première.<br>
	Pour cette édition nous sommes très fiers d’inviter de vieux amis, IRIE IT
	ES et ZION GATE HI-FI.<br>Durant cette soirée le Roots sera à l’honneur, s
	i tu veux entendre des dubplates exclusifs de IRIE ITES ou des sélections 
	pointu dont ZION GATE HI-FI a le secret maintenant tu sais ou cela va se p
	asser.<br>Nous avons hâte de partager ce bon moment musical en perspective
	.<br>Tu as raté la dernière ne loupe pas celle-ci, la sélection s’annonce 
	de qualité dans un endroit original, sympa mais surtout chaleureux.<br>Pou
	r ce Vendredi 8 Mai, on vous propose une nuit de musique jamaïquaine pour 
	notre bonheur à tous.<br>Si tu n'es jamais venue, je t’explique vite fait 
	le concept.<br>La salle est cachée au fond d’une impasse, au début tu te d
	emandes si tu ne t’es pas trompé mais une fois arrivé tu comprends vite qu
	e nous sommes bien tranquilles dans cette salle, que l’on peut jouer jusqu
	’au petit matin sur une sono sérieuse des vinyls ou des dubplates afin de 
	passer une belle soirée entre amateur de musique Jamaïcaine sous toutes le
	s époques.<br>Le tout dans un état d’esprit positif et festif !! Pas de ba
	ddd vibes…<br>On compte sur toi !!!!<br><br><br><br>📀📀🎵🎧🎶🎤<br>AUX PLATINES
	<br><br>ZION GATE<br><br>Créé en 1996 à l’initiative de Ras Abubakar, Zion
	 Gate Hi-Fi est un sound system basé à Nantes. Rejoint par Miniman en 1998
	, celui-ci sera pendant cinq ans l’opérateur du sound. Musicien, il joue d
	u mélodica sur les versions et compose des riddims ; c’est ainsi que paral
	lèlement à la partie scénique, le label Zion Gate Music voit le jour.<br>L
	e premier maxi de Miniman sort en 2001, il sera très bien accueilli par la
	 scène UK, et sera notamment joué par Jah Shaka et Channel One. C’est à ce
	tte époque que Ras Mac Bean, chanteur originaire du Guyana et fraichement 
	arrivé en France rejoint le son. Un an plus tard, c’est Nassadjah, chanteu
	r originaire des Comores et basé à Nantes, qui se joint à son tour à la fo
	rmation.<br>2003 voit, à la fois, le départ de Miniman et de Ras Mac Bean,
	 qui vont tous deux se consacrer à une carrière solo et à leur premier alb
	um. Malgré leur départ, Ils continuent tous les deux à collaborer avec le 
	son et le label de manière occasionnelle.<br>La formation actuelle est cen
	trée autour du noyau dur, Ras Abubakar (sélecteur), Nassadjah (chanteur), 
	Prince (MC), Mark « Mostec » Skeete (opérateur) et I Youth Tubby (2eme opé
	rateur). De fait, la formation est à géométrie variable et peut s’adapter 
	suivant le souhait des organisateurs. Zion Gate Hi-Fi s’est déjà produit s
	ur de nombreuses scènes et festivals dans l’hexagone, mais aussi à La Réun
	ion, en Belgique, en Allemagne, en Finlande, en Suède, en Espagne et en Su
	isse.<br>Zion Gate travaille aussi avec d’autres artistes tels que Lorenzo
	, Murray Man et Nereus Joseph avec lesquels de nombreuses collaborations o
	nt vu le jour sur le label. Far East (mélodica), Olivier Corre (piano wurl
	itzer) et Charlotte Meas (flute et saxophone) jouent aussi régulièrement a
	vec Zion Gate et apportent une touche instrumentale au sound system.<br>La
	 sono est construite sur le modèle des sons UK, c’est à dire une sono arti
	sanale capable de restituer des aigus précis, des médiums bien définis et 
	des fréquences basses profondes et physiques ! Les sélections sont jouées 
	de manière traditionnelle sur une seule platine, avec un pré-ampli, une si
	rène, et une chambre d écho. Le style de sélection est résolument « Roots 
	and Culture« , dans un registre qui va du Ska et du Rocksteady au Early Re
	ggae du milieu des années 70, du style Rockers au Steppers du début des an
	nées 80, du Rub a Dub au Early Digital jusqu’au Roots actuel.<br>Zion Gate
	 Hi-Fi est un sound system engagé dans la promotion de la culture et du mo
	de de vie Rastafari.<br><br>IRIE ITES<br>IRIE ITES est un collectif ayant 
	débuté en 1999. Avec plus de 1500 dates à son actif, le sound joue partout
	 en Europe que ce soit en DJ Set ou accompagné d’artistes internationaux. 
	Fort d’une grosse box de dubplates et exclusifs du label Irie Ites Records
	, le sound se démarque par une sélection originale et affutée.<br>Créé en 
	2001, le label Irie Ites Records est l’un des plus importants labels regga
	e européens de ces 20 dernières années. Ayant collaboré avec la crème des 
	artistes tels que Sizzla, Capleton, Anthony B, Lutan Fyah, Chezidek, Fanta
	 Mojah, Morgan Heritage, Bounty Killer, Perfect Giddimani mais aussi John 
	Holt, Eek A Mouse, Frankie Paul, Glen Washington, King Kong, Trinity,… Iri
	e Ites Records n’a plus rien à prouver.<br>Le label Irie Ites en quelques 
	chiffres :<br>C’est presque 400 morceaux sortis soit 23 projets en CD, plu
	s de 80 singles 45T, plus d’une dizaine de maxis 10’’ et 12’’ et 8 albums 
	33T ...<br>De nombreux morceaux et projets sortiront dans le futur car le 
	label continue encore d’enregistrer de nouveaux morceaux chaque semaine.<b
	r><br><br><br>TRUTH AND RIGHT<br>Truth and Right est un sound qui fait par
	ti des plus actifs en France. Fondé sur l’amour du Reggae du Dancehall mai
	s aussi du Steppa, leur sélection musicale est très large, il est l’un des
	 derniers sound français a savoir jouer du Dancehall mais aussi les fondat
	ions de la musique jamaïcaines. Ils apportent une vibe unique qui allie tr
	adition jamaïcaine et énergie moderne.<br>Fondé en 2002 par Puppa Dready ,
	 le Truth and Right sound est une référence incontournable du reggae hexag
	onale. Après des débuts en radio sur Radio Prun’, ils ont conquis la scène
	 nantaise avec leur résidence emblématique "Buss di Dance".<br>Ce Vendredi
	 27 Mars, Puppa Dready &amp; Greg vous proposeront un set unique allant du
	 Rocksteady, Roots, Rub a Dub, au Stepper, mais aussi des Dubplates.<br><b
	r>📀📀🎵🎧🎶🎤<br>AUX PLATINES<br><br>ZION GATE<br>- Instagram : <a href="https:
	//www.instagram.com/zion_gate_hi_fi/" target="_blank">https://www.instagra
	m.com/zion_gate_hi_fi/</a><br><br>IRIE ITES<br>- Instagram : <a href="http
	s://www.instagram.com/irie_ites_official/" target="_blank">https://www.ins
	tagram.com/irie_ites_official/</a><br><br>TRUTH AND RIGHT SOUND<br>- Insta
	gram : <a href="https://www.instagram.com/puppa_dready/" target="_blank">h
	ttps://www.instagram.com/puppa_dready/</a><br><br><br>📆🕦<br>VENDREDI 8 MAI
	 de 22h à 05H00<br><br><br>￼<br>Lieu : All Gangs, 13 rue du marché commun,
	 44300 Nantes<br><br>￼<br>Accès : Tram ligne 1 arrêt Haluchère-Batignolles
	 / Bus 11<br>￼<br>Parking gratuit à proximité<br><br>￼<br>22h00 à 5h00<br>
	<br>￼<br>Préventes : 10€<br><br>￼<br>Capacités limitées : 150 personnes</p
	>
BEGIN:VALARM
ACTION:DISPLAY
DESCRIPTION:Buss Di Dub #6 // TRUTH AND RIGHT SOUND Meet IRIE ITES & ZION G
	ATE HI-FI
TRIGGER:-PT1H
END:VALARM
END:VEVENT
END:VCALENDAR
