BEGIN:VCALENDAR
VERSION:2.0
CALSCALE:GREGORIAN
PRODID:adamgibbons/ics
METHOD:PUBLISH
X-PUBLISHED-TTL:PT1H
BEGIN:VEVENT
UID:196@dubagenda.top
SUMMARY:Bun It Down #3 // Ruff Rakam pon Ataraxy Sound System
DTSTAMP:20260422T093420Z
DTSTART:20260425T160000Z
DTEND:20260425T220000Z
DESCRIPTION:Rendez-vous le samedi 25 avril pour une nouvelle édition de la 
	Bun It Down🔥\n@ataraxy.sound.system\n"The Free Independant\, Human and Mil
	itant Culture Defender"\nOrganisateur des soirées Syndicate of Dub\, résid
	ent des Block Fréquencies avec\nMarée Bass\, les Ataraxis inondent le 44 d
	epuis plus de 10 ans de leurs\nsélections résolument tournée vers la moder
	nité. Leur collaboration avec la\nchanteuse Aniya🫶 ajoute une présence liv
	e qui fait toute la différence.\n@ruff_rakam_soundsystem\nLe Ruff Rakam so
	und system propose une sélection Roots&dub et des tunes maisons\noriginale
	s\, un sound dont les racines s'étirent entre Nantes et Rennes.\n🎟️Entrée s
	ur donation\n🕛Event de 18h à 0h\n🍻12 becs de bières\, carte de vins & de b
	oissons sans alcool\n🍴Tapas & pizzas\nNous ne tolèrerons aucun comportemen
	t déplacé.\n(L'abus d'alcool est dangereux pour la santé\, à consommer ave
	c modération)
URL:https://dubagenda.top/event/bun-it-down-3-ruff-rakam-pon-ataraxy-sound-
	system
GEO:47.2803785;-1.4586905
LOCATION:44470 Carquefou // Le Pipeline - M 723\, Zone Actipole\, Le Jaunea
	u\, Thouaré-sur-Loire\, Nantes\, Loire-Atlantique\, Pays de la Loire\, Fra
	nce métropolitaine\, 44470\, France
STATUS:CONFIRMED
CATEGORIES:Nantes,2026,Sound System
X-ALT-DESC;FMTTYPE=text/html:<p>Rendez-vous le samedi 25 avril pour une nou
	velle édition de la Bun It Down🔥<br>@ataraxy.sound.system <br> "The Free I
	ndependant, Human and Militant Culture Defender"<br>Organisateur des soiré
	es Syndicate of Dub, résident des Block Fréquencies avec Marée Bass, les A
	taraxis inondent le 44 depuis plus de 10 ans de leurs sélections résolumen
	t tournée vers la modernité. Leur collaboration avec la chanteuse Aniya🫶 a
	joute une présence live qui fait toute la différence.<br>@ruff_rakam_sound
	system<br> Le Ruff Rakam sound system propose une sélection Roots&amp;dub 
	et des tunes maisons originales, un sound dont les racines s'étirent entre
	 Nantes et Rennes.<br>🎟️Entrée sur donation<br>🕛Event de 18h à 0h<br>🍻12 be
	cs de bières, carte de vins &amp; de boissons sans alcool<br>🍴Tapas &amp; 
	pizzas<br>Nous ne tolèrerons aucun comportement déplacé.<br>(L'abus d'alco
	ol est dangereux pour la santé, à consommer avec modération)</p>
BEGIN:VALARM
ACTION:DISPLAY
DESCRIPTION:Bun It Down #3 // Ruff Rakam pon Ataraxy Sound System
TRIGGER:-PT1H
END:VALARM
END:VEVENT
END:VCALENDAR
