BEGIN:VCALENDAR
VERSION:2.0
CALSCALE:GREGORIAN
PRODID:adamgibbons/ics
METHOD:PUBLISH
X-PUBLISHED-TTL:PT1H
BEGIN:VEVENT
UID:145@dubagenda.top
SUMMARY:Bun It Down #2 // Soma Collectif & Heartikal Vibes Sound System 
DTSTAMP:20260421T153205Z
DTSTART:20260328T170000Z
DTEND:20260328T230000Z
URL:https://dubagenda.top/event/bun-it-down-2-soma-collectif
GEO:47.2803785;-1.4586905
LOCATION:44470 Carquefou // Le Pipeline - M 723\, Zone Actipole\, Le Jaunea
	u\, Thouaré-sur-Loire\, Nantes\, Loire-Atlantique\, Pays de la Loire\, Fra
	nce métropolitaine\, 44470\, France
STATUS:CONFIRMED
CATEGORIES:Nantes,2026,Sound System
BEGIN:VALARM
ACTION:DISPLAY
DESCRIPTION:Bun It Down #2 // Soma Collectif & Heartikal Vibes Sound System
	 
TRIGGER:-PT1H
END:VALARM
END:VEVENT
END:VCALENDAR
