BEGIN:VCALENDAR
VERSION:2.0
CALSCALE:GREGORIAN
PRODID:adamgibbons/ics
METHOD:PUBLISH
X-PUBLISHED-TTL:PT1H
BEGIN:VEVENT
UID:99@dubagenda.top
SUMMARY:Boombastic #14 // Turbulent Sound x Guiding Star
DTSTAMP:20260421T153951Z
DTSTART:20251219T210000Z
DTEND:20251220T004500Z
DESCRIPTION:Pour cette Boombastic #14\, nous recevons Guiding Star\, avec J
	acob aux commandes.\n➜ Guiding Star c'est un des rares sounds français à a
	voir représenté le pays en\nclash à l’international\, actif depuis 1997.\n
	Ceux qui suivent la scène depuis longtemps connaissent la valeur du sound 
	et le\ntravail derrière : les années d’archives\, les voyages\, les dubpla
	tes\, les\nsessions qui ont marqué.\nLes voir à Angers est une date import
	ante.\n➜ Turbulent Sound\, actif dans la culture depuis 2005.\nLudo et Tom
	awok : Pour eux Angers c'est la maison. Son public et son énergie ils\ncon
	naissent cette ville mieux que personne.\nTurbulent Sound\, c’est du trava
	il\, de la constance\, six voyages en Jamaïque 🇯🇲\net une dubplate box .\nL
	a rencontre sera jouée sur Eskifaia Sound System en configuration 6 basses
	.\nC’est une vraie date sound system pour les gens qui suivent cette cultu
	re\, qui\nsavent ce que ces deux noms représentent et ce que peut donner c
	e meeting dans\nun lieu comme l’Entrepôt.\n📍 L’Entrepôt Café\, 23 rue Bois
	net\, 49100 Angers\n📅 Vendredi 19 décembre 2025\n🕙 22h → 01h45\n💶 Entrée :
	 5€ uniquement sur place\n🔊 Sono : Eskifaia Sound System — 6 basses
URL:https://dubagenda.top/event/boombastic-14-turbulent-sound-x-guiding-sta
	r
GEO:47.4744108;-0.5516046
LOCATION:49100 Angers // L'entrepôt Café - Rue Boisnet\, Centre Ville - La 
	Fayette - Eblé\, Angers\, Maine-et-Loire\, Pays de la Loire\, France métro
	politaine\, 49100\, France
STATUS:CONFIRMED
CATEGORIES:2025,49,Reggae
X-ALT-DESC;FMTTYPE=text/html:<p>Pour cette Boombastic #14, nous recevons Gu
	iding Star, avec Jacob aux commandes.<br>➜ Guiding Star c'est un des rares
	 sounds français à avoir représenté le pays en clash à l’international, ac
	tif depuis 1997.<br>Ceux qui suivent la scène depuis longtemps connaissent
	 la valeur du sound et le travail derrière : les années d’archives, les vo
	yages, les dubplates, les sessions qui ont marqué.<br>Les voir à Angers es
	t une date importante.<br>➜ Turbulent Sound, actif dans la culture depuis 
	2005.<br>Ludo et Tomawok : Pour eux Angers c'est la maison. Son public et 
	son énergie ils connaissent cette ville mieux que personne.<br>Turbulent S
	ound, c’est du travail, de la constance, six voyages en Jamaïque 🇯🇲 et une 
	dubplate box .<br>La rencontre sera jouée sur Eskifaia Sound System en con
	figuration 6 basses.<br>C’est une vraie date sound system pour les gens qu
	i suivent cette culture, qui savent ce que ces deux noms représentent et c
	e que peut donner ce meeting dans un lieu comme l’Entrepôt.<br>📍 L’Entrepô
	t Café, 23 rue Boisnet, 49100 Angers<br>📅 Vendredi 19 décembre 2025<br>🕙 2
	2h → 01h45<br>💶 Entrée : 5€ uniquement sur place<br>🔊 Sono : Eskifaia Soun
	d System — 6 basses</p>
BEGIN:VALARM
ACTION:DISPLAY
DESCRIPTION:Boombastic #14 // Turbulent Sound x Guiding Star
TRIGGER:-PT1H
END:VALARM
END:VEVENT
END:VCALENDAR
