BEGIN:VCALENDAR
VERSION:2.0
CALSCALE:GREGORIAN
PRODID:adamgibbons/ics
METHOD:PUBLISH
X-PUBLISHED-TTL:PT1H
BEGIN:VEVENT
UID:54@dubagenda.top
SUMMARY:⚠️ décalé au 12 octobre 🛥️ Boat Party AnimaSound x Tissé Collectif
DTSTAMP:20260421T152025Z
DTSTART:20251012T133000Z
DTEND:20251012T173000Z
DESCRIPTION:🚨🚨🚨 Attention\, changement de date au 12 octobre ⚠️⚠️⚠️\n\n\n\nRej
	oins-nous en croisière sur @lepapillonbleu44 de 15h30 à 19h30\nL'accès au 
	bateau se fait sur l'île de Nantes\,\nUne après-midi chauuuude avec 3 rési
	dentes du @tissecollectif 💦\nPlaces limitées\, entrée payante\n🩷 Événement
	 de soutien pour permettre à l'association Anima'Sound de continuer\nd'exi
	ster 🩷\n🎟️Ouverture du bateau à 15h30\, départ 16h retour prévu 19h🎟️\n📍Pour
	 venir\n🚊En tram : Ligne 1 arrêt "Chantiers Navals" En bus: Ligne 5 arrêt 
	"Prairie au\nduc"\n🚴En vélo : un parc à vélo est à proximité de l'entrée l
	'embarcadère. Station\nvélo Naolib "Parvis des nefs"\n🚗En voiture : !!! AT
	TENTION !!! Pont Anne de Bretagne fermé !!!\n🅿️Parking gratuit : parking Wi
	lson parkings payant : les machines de Nantes et\nle parking des nefs
URL:https://dubagenda.top/event/boat-party-animasound-x-tisse-collectif
GEO:47.2075469;-1.5661581
LOCATION:44200 Nantes // Le Papillon Bleu - Quai Fernand-Crouan\, Sainte-An
	ne - Zone portuaire\, Île de Nantes\, Nantes\, Loire-Atlantique\, Pays de 
	la Loire\, France métropolitaine\, 44003\, France
STATUS:CONFIRMED
CATEGORIES:2025,Nantes,Sound System
X-ALT-DESC;FMTTYPE=text/html:<p>🚨🚨🚨 Attention, changement de date au 12 oct
	obre ⚠️⚠️⚠️</p><p></p><p>Rejoins-nous en croisière sur @lepapillonbleu44 de 1
	5h30 à 19h30<br>L'accès au bateau se fait sur l'île de Nantes,<br>Une aprè
	s-midi chauuuude avec 3 résidentes du @tissecollectif 💦<br>Places limitées
	, entrée payante<br>🩷 Événement de soutien pour permettre à l'association 
	Anima'Sound de continuer d'exister 🩷<br>🎟️Ouverture du bateau à 15h30, dépa
	rt 16h retour prévu 19h🎟️<br>📍Pour venir<br>🚊En tram : Ligne 1 arrêt "Chant
	iers Navals" En bus: Ligne 5 arrêt "Prairie au duc"<br>🚴En vélo : un parc 
	à vélo est à proximité de l'entrée l'embarcadère. Station vélo Naolib "Par
	vis des nefs"<br>🚗En voiture : !!! ATTENTION !!! Pont Anne de Bretagne fer
	mé !!!<br>🅿️Parking gratuit : parking Wilson parkings payant : les machines
	 de Nantes et le parking des nefs</p>
BEGIN:VALARM
ACTION:DISPLAY
DESCRIPTION:⚠️ décalé au 12 octobre 🛥️ Boat Party AnimaSound x Tissé Collecti
	f
TRIGGER:-PT1H
END:VALARM
END:VEVENT
END:VCALENDAR
