BEGIN:VCALENDAR
VERSION:2.0
CALSCALE:GREGORIAN
PRODID:adamgibbons/ics
METHOD:PUBLISH
X-PUBLISHED-TTL:PT1H
BEGIN:VEVENT
UID:72@dubagenda.top
SUMMARY:Block Frequencies #5
DTSTAMP:20260421T151323Z
DTSTART:20251108T190000Z
DTEND:20251109T010000Z
DESCRIPTION:----------------Block Frequencies #5 ----------------\nLe 08 no
	vembre prochain\, on reprend possession des Ateliers de Bitche pour une\nn
	ouvelle session sonore toujours plus deep !\nCette fois\, on plonge encore
	 plus profond dans les abysses de la bass music\,\nentre deep dubstep et s
	teppa percutant.\nEt autant te dire qu’avec les 6 bass d'Ataraxy Sound Sys
	tem\, ça va garantir une\nexpérience sensorielle à mi-chemin entre la tran
	se et le séisme.\nAux commandes de cette 5e édition :\n🐢 Soundboy Dead\,\n
	🎷 T-Horns feat Greg’n’Sax\,\n🔊 Le tout propulsé par Ataraxy Sound System f
	eat. Sista Aniya\, pour une session\n"NO COMPROMISE" !\nRendez-vous dans l
	e chaudron… et n’oublie pas : ici\, on ne fait pas que danser\,\non ressen
	t. 💥\nIn deep bass we trust 🙂\n---------------------------\n▷►ATARAXY SOUN
	D SYSTEM\n(sélection dub & stepper / Nantes)\n🔥🔥🔥8 BASS🔥🔥🔥\n--------------
	-------------\n★https://bit.ly/3A6VtqB [https://bit.ly/3A6VtqB]\n★https://
	bit.ly/38pSOKu [https://bit.ly/38pSOKu]\nCréé par une bande de potes de lo
	ngue date en 2015\, Ataraxy Sound System diffuse\ndepuis 8 ans maintenant 
	la culture Sound System qui leur tient à cœur\, sur\nNantes et ses alentou
	rs. D'un roots des années 80s jamaïcain aux percussions\nclaquantes\, alla
	nt vers un dub UK chargé d'une basse analogique\, passant par une\nbass mu
	sic aux inspirations indiennes\, Ataraxy propose des sonorités et des\nsél
	ections variées issues des cultures qui les inspirent au quotidien. C’est\
	naujourd’hui avec un Sound System de 8 basses qu’Ataraxy propose ses derni
	ères\nproductions et sélections fraîchement diggées\, provenant des cultur
	es par-delà\nle monde.\n---------------------------\n▷►Soundboy Dead\n(Liv
	e Dub / DUBQUAKE RECORDS / DUB-STUY RECORDS / France)\n-------------------
	--------\n★http://bit.ly/3JimvQl [http://bit.ly/3JimvQl]\n★http://bit.ly/3
	L4lyM1 [http://bit.ly/3L4lyM1]\nDeux producteurs d’expérience\, une propos
	ition musicale offensive\, un Dub 3.0\ntrempé d’influences UK : Soundboy D
	ead livre sa propre interprétation du dub et\njoue le live à quatre mains 
	sans faire dans le compromis.\nCela fait presque vingt ans que ces deux-là
	 arpentent les scènes jungle ou\ndubstep en solo. À ce jour\, ils sont int
	ernationalement reconnus comme membres\ndu club très restreint des product
	eurs de bass music français qui brillent\nau-delà des frontières de notre 
	pays. Deux vies dédiées à la bass culture\, une\npassion commune pour le d
	ub\, une fascination partagée pour les travaux des\nproducteurs jamaïcains
	 légendaires\, et les voilà aujourd’hui en route pour une\nnouvelle expédi
	tion au cœur du royaume des kicks et des subs.\nAvec l’appui des labels Du
	bquake Records (O.B.F) et Dub-Stuy\, Soundboy Dead joue\nsa carte dub de m
	anière brutale. Le son\, travaillé avec une précision d’orfèvre\,\nse révè
	le rude. Évidemment attaché aux racines reggae roots du genre\, il est\nég
	alement et sans conteste ouvert sur les influences soundsystem music moder
	nes\nsi bien qu’il s’adresse à toutes les générations de dub heads.\nSound
	boy Dead c’est une grosse envie d’aller en découdre avec les potards et le
	s\nsono\, une approche du dub façon hardcore\, une remarquable maitrise de
	s\ntechniques de productions\, des arguments à faire vaciller n’importe qu
	elle\nsoirée et\, de fait\, l’un des projets dub les plus dangereux du mom
	ent !\n---------------------------\n►▷T-Horns feat. Greg'n'Sax\n(Organic s
	ound / Chamonix)\n---------------------------\n★https://soundcloud.com/t-h
	orns_dubmaker\n[https://soundcloud.com/t-horns_dubmaker]\n★https://t-horns
	.bandcamp.com/album/crux-2\n[https://t-horns.bandcamp.com/album/crux-2]\nT
	-Horns est un dubmaker français originaire de Haute Savoie (France). Après
	\navoir débuté il y à quinze dans la composition assisté par ordinateur\, 
	tout\nd'abord dans un registre plus Electro\, Hip Hop et Dubstep\, c'est l
	a découverte\nde la culture Sound System qui à changé sa vision de ce qu'i
	l pouvait créer. Ses\ncréations sont axées Electro Dub\, Dub et Stepper av
	ec des influences du coté\nd'High Tone\, OBF ou encore Panda Dub. Depuis 2
	015\, T-Horns explore une autre\nfacette de création musicale en proposant
	 un set live sur contrôleur avec des\nproductions exclusives\nMembre du cr
	ew Organic Sound System depuis 2014 avec qui il sort régulièrement\nla son
	o artisanale\, il s'est également associé avec le Saxophoniste Greg'n'Sax\
	npour proposer un Duo Live Machine/Saxophone explosif\nGreg'n'Sax parcours
	 les scènes dub et reggae d'ici ou d'ailleurs\, instrument en\nmain depuis
	 2005. Il a aussi collaboré en studio et live/ soundsystem avec\nUpfull Po
	sse / B-No (Paris)\, Critical Hi Fi (Toulouse)\, Parly-b MC (Scotch\nBonne
	t/Uk)\, Wisdom Sound System (Ibiza Reggae yard).\n♩ ♬ ♭ ♪ ♫♩ ♬ ♭ ♪ ♫♩ ♬ ♭ 
	♪ ♫♩ ♬ ♭ ♪ ♫♩ ♬ ♭ ♪ ♫♩ ♬ ♭ ♪ ♫\n♪ ♫♩ ♬ GOOD VIBES ONLY ♪ ♫♩ ♬\n08 novembre
	 2025\nLes Ateliers de Bitche - 3 Rue de Bitche Nantes\n20h-02h / Entrée 7
	 euros\nCB acceptée\nCome & enjoy it !\n-TOUT COMPORTEMENT DE MERDE PENDAN
	T NOS SOIRÉES SUBIRA UN TRAITEMENT DE MERDE-
URL:https://dubagenda.top/event/block-frequencies-5
GEO:47.2117347;-1.5420967
LOCATION:44000 Nantes // Les Ateliers de Bitche - atelie
STATUS:CONFIRMED
CATEGORIES:2025,Nantes,Sound System
X-ALT-DESC;FMTTYPE=text/html:<p>----------------Block Frequencies #5 ------
	----------<br>Le 08 novembre prochain, on reprend possession des Ateliers 
	de Bitche pour une nouvelle session sonore toujours plus deep !<br>Cette f
	ois, on plonge encore plus profond dans les abysses de la bass music, entr
	e deep dubstep et steppa percutant.<br>Et autant te dire qu’avec les 6 bas
	s d'Ataraxy Sound System, ça va garantir une expérience sensorielle à mi-c
	hemin entre la transe et le séisme.<br>Aux commandes de cette 5e édition :
	<br>🐢 Soundboy Dead,<br>🎷 T-Horns feat Greg’n’Sax,<br>🔊 Le tout propulsé p
	ar Ataraxy Sound System feat. Sista Aniya, pour une session "NO COMPROMISE
	" !<br>Rendez-vous dans le chaudron… et n’oublie pas : ici, on ne fait pas
	 que danser, on ressent. 💥<br>In deep bass we trust 🙂<br>-----------------
	----------<br>▷►ATARAXY SOUND SYSTEM<br>(sélection dub &amp; stepper / Nan
	tes)<br>🔥🔥🔥8 BASS🔥🔥🔥<br>---------------------------<br>★<a target="_blank"
	 href="https://bit.ly/3A6VtqB">https://bit.ly/3A6VtqB</a><br>★<a target="_
	blank" href="https://bit.ly/38pSOKu">https://bit.ly/38pSOKu</a><br>Créé pa
	r une bande de potes de longue date en 2015, Ataraxy Sound System diffuse 
	depuis 8 ans maintenant la culture Sound System qui leur tient à cœur, sur
	 Nantes et ses alentours. D'un roots des années 80s jamaïcain aux percussi
	ons claquantes, allant vers un dub UK chargé d'une basse analogique, passa
	nt par une bass music aux inspirations indiennes, Ataraxy propose des sono
	rités et des sélections variées issues des cultures qui les inspirent au q
	uotidien. C’est aujourd’hui avec un Sound System de 8 basses qu’Ataraxy pr
	opose ses dernières productions et sélections fraîchement diggées, provena
	nt des cultures par-delà le monde.<br>---------------------------<br>▷►Sou
	ndboy Dead<br>(Live Dub / DUBQUAKE RECORDS / DUB-STUY RECORDS / France)<br
	>---------------------------<br>★<a target="_blank" href="http://bit.ly/3J
	imvQl">http://bit.ly/3JimvQl</a><br>★<a target="_blank" href="http://bit.l
	y/3L4lyM1">http://bit.ly/3L4lyM1</a><br>Deux producteurs d’expérience, une
	 proposition musicale offensive, un Dub 3.0 trempé d’influences UK : Sound
	boy Dead livre sa propre interprétation du dub et joue le live à quatre ma
	ins sans faire dans le compromis.<br>Cela fait presque vingt ans que ces d
	eux-là arpentent les scènes jungle ou dubstep en solo. À ce jour, ils sont
	 internationalement reconnus comme membres du club très restreint des prod
	ucteurs de bass music français qui brillent au-delà des frontières de notr
	e pays. Deux vies dédiées à la bass culture, une passion commune pour le d
	ub, une fascination partagée pour les travaux des producteurs jamaïcains l
	égendaires, et les voilà aujourd’hui en route pour une nouvelle expédition
	 au cœur du royaume des kicks et des subs.<br>Avec l’appui des labels Dubq
	uake Records (O.B.F) et Dub-Stuy, Soundboy Dead joue sa carte dub de maniè
	re brutale. Le son, travaillé avec une précision d’orfèvre, se révèle rude
	. Évidemment attaché aux racines reggae roots du genre, il est également e
	t sans conteste ouvert sur les influences soundsystem music modernes si bi
	en qu’il s’adresse à toutes les générations de dub heads.<br>Soundboy Dead
	 c’est une grosse envie d’aller en découdre avec les potards et les sono, 
	une approche du dub façon hardcore, une remarquable maitrise des technique
	s de productions, des arguments à faire vaciller n’importe quelle soirée e
	t, de fait, l’un des projets dub les plus dangereux du moment !<br>-------
	--------------------<br>►▷T-Horns feat. Greg'n'Sax<br>(Organic sound / Cha
	monix)<br>---------------------------<br>★<a target="_blank" href="https:/
	/soundcloud.com/t-horns_dubmaker">https://soundcloud.com/t-horns_dubmaker<
	/a><br>★<a target="_blank" href="https://t-horns.bandcamp.com/album/crux-2
	">https://t-horns.bandcamp.com/album/crux-2</a><br>T-Horns est un dubmaker
	 français originaire de Haute Savoie (France). Après avoir débuté il y à q
	uinze dans la composition assisté par ordinateur, tout d'abord dans un reg
	istre plus Electro, Hip Hop et Dubstep, c'est la découverte de la culture 
	Sound System qui à changé sa vision de ce qu'il pouvait créer. Ses créatio
	ns sont axées Electro Dub, Dub et Stepper avec des influences du coté d'Hi
	gh Tone, OBF ou encore Panda Dub. Depuis 2015, T-Horns explore une autre f
	acette de création musicale en proposant un set live sur contrôleur avec d
	es productions exclusives<br>Membre du crew Organic Sound System depuis 20
	14 avec qui il sort régulièrement la sono artisanale, il s'est également a
	ssocié avec le Saxophoniste Greg'n'Sax pour proposer un Duo Live Machine/S
	axophone explosif<br>Greg'n'Sax parcours les scènes dub et reggae d'ici ou
	 d'ailleurs, instrument en main depuis 2005. Il a aussi collaboré en studi
	o et live/ soundsystem avec Upfull Posse / B-No (Paris), Critical Hi Fi (T
	oulouse), Parly-b MC (Scotch Bonnet/Uk), Wisdom Sound System (Ibiza Reggae
	 yard).<br>♩ ♬ ♭ ♪ ♫♩ ♬ ♭ ♪ ♫♩ ♬ ♭ ♪ ♫♩ ♬ ♭ ♪ ♫♩ ♬ ♭ ♪ ♫♩ ♬ ♭ ♪ ♫<br>♪ ♫♩ 
	♬ GOOD VIBES ONLY ♪ ♫♩ ♬<br>08 novembre 2025<br>Les Ateliers de Bitche - 3
	 Rue de Bitche Nantes<br>20h-02h / Entrée 7 euros<br>CB acceptée<br>Come &
	amp; enjoy it !<br>-TOUT COMPORTEMENT DE MERDE PENDANT NOS SOIRÉES SUBIRA 
	UN TRAITEMENT DE MERDE-</p>
BEGIN:VALARM
ACTION:DISPLAY
DESCRIPTION:Block Frequencies #5
TRIGGER:-PT1H
END:VALARM
END:VEVENT
END:VCALENDAR
