BEGIN:VCALENDAR
VERSION:2.0
CALSCALE:GREGORIAN
PRODID:adamgibbons/ics
METHOD:PUBLISH
X-PUBLISHED-TTL:PT1H
BEGIN:VEVENT
UID:127@dubagenda.top
SUMMARY:Big Red & Irie Ites Live Dub Mix
DTSTAMP:20260421T135055Z
DTSTART:20260306T200000Z
DTEND:20260307T023000Z
DESCRIPTION:L’original BIG RED (Raggasonic) vient défendre son nouvel album
	 DUB "Blood &\nVictory" sur Nantes le vendredi 06 mars 2026 au Ferrailleur
	\; accompagné d'Irie\nItes Live Dub Mix aux machines et Babass à la basse.
	 Ce show exclusif vous sera\nprésenté pour la 1ère fois sur Nantes ! Irie 
	Ites jouera également en DJ Set ses\nmeilleurs dubplates exclusifs ainsi q
	u'une sélection de morceaux jamais sortis\ndu label. Enfin Thruth & Right 
	se joindra à la soirée pour vous ambiancer sur\ndes sons from Roots to Fru
	its ! Du Oldies\, Rub A Dub au Dancehall en passant par\nle Dub\, Drum & B
	ass\, Jungle sans oublier la Shatta ! Une soirée à ne pas\nmanquer...6h de
	 son aux couleurs de La Jamaique et du meilleur MC français Big\nRed.\nBil
	lets en prévente sur le lien ci-dessous...Attention places limitées : 360\
	nplaces dispo dont seulement 200 en pré-ventes !
URL:https://dubagenda.top/event/big-red-and-irie-ites-dub-mix
GEO:47.2007699;-1.5732795
LOCATION:44200 Nantes // Le Ferailleur - 21\, Quai des Antilles\, Sainte-An
	ne - Zone portuaire\, Île de Nantes\, Nantes\, Loire-Atlantique\, Pays de 
	la Loire\, France métropolitaine\, 44200\, France
STATUS:CONFIRMED
CATEGORIES:Nantes,2026,Live Dub
X-ALT-DESC;FMTTYPE=text/html:<p>L’original BIG RED (Raggasonic) vient défen
	dre son nouvel album DUB "Blood &amp; Victory" sur Nantes le vendredi 06 m
	ars 2026 au Ferrailleur; accompagné d'Irie Ites Live Dub Mix aux machines 
	et Babass à la basse. Ce show exclusif vous sera présenté pour la 1ère foi
	s sur Nantes ! Irie Ites jouera également en DJ Set ses meilleurs dubplate
	s exclusifs ainsi qu'une sélection de morceaux jamais sortis du label. Enf
	in Thruth &amp; Right se joindra à la soirée pour vous ambiancer sur des s
	ons from Roots to Fruits ! Du Oldies, Rub A Dub au Dancehall en passant pa
	r le Dub, Drum &amp; Bass, Jungle sans oublier la Shatta ! Une soirée à ne
	 pas manquer...6h de son aux couleurs de La Jamaique et du meilleur MC fra
	nçais Big Red.<br>Billets en prévente sur le lien ci-dessous...Attention p
	laces limitées : 360 places dispo dont seulement 200 en pré-ventes !</p>
BEGIN:VALARM
ACTION:DISPLAY
DESCRIPTION:Big Red & Irie Ites Live Dub Mix
TRIGGER:-PT1H
END:VALARM
END:VEVENT
END:VCALENDAR
