BEGIN:VCALENDAR
VERSION:2.0
CALSCALE:GREGORIAN
PRODID:adamgibbons/ics
METHOD:PUBLISH
X-PUBLISHED-TTL:PT1H
BEGIN:VEVENT
UID:65@dubagenda.top
SUMMARY:Become a Fox #7
DTSTAMP:20260421T153124Z
DTSTART:20251121T180000Z
DTEND:20251122T000000Z
DESCRIPTION:💥 NOUVELLE SESSION À RENNES CITY 💥\n📅 Vendredi 21 novembre\n📍 B
	AM – Bâtiment À Modeler\, Cleunay\n🕖 19h – 1h\n🎶 4 scoops pour skanker tou
	te la nuit !\n🔥 LINE-UP 🔥\n🎧 Fox In Dub\n🎧 Le Faune Stepper\n🎧 Pussycat Du
	b\n🎤 Steppin' Pablo\n⚡ INFOS PRATIQUES ⚡\n🎫 Entrée : https://www.helloasso
	.com/.../evenements/become-a-fox-7\n[https://www.helloasso.com/.../eveneme
	nts/become-a-fox-7]\n• 5€ en prévente\n• 10€ sur place\n\n📍 Adresse :\nBât
	iment À Modeler\, 2 Rue André Trasbot\, 35000 Rennes\n🚇 Accès :\n• Métro B
	 ou Bus ligne 10\, arrêt Cleunay\n• 12 min à vélo de République\n🚗 Covoitu
	rage recommandé\n🍺 Buvette sur place\n🎨 Merci à @gobiward pour l'affiche !
	\n❌ Tolérance Zéro face à tout comportement sexiste\, raciste\, homophobe\
	,\ntransphobe ou validiste.\n❤️ Un seul mot d’ordre : Respect et Bienveilla
	nce ❤️
URL:https://dubagenda.top/event/become-a-fox-7
GEO:48.1005348;-1.7092062
LOCATION:35000 Rennes // BAM - 2\, Rue André Trasbot\, La Grande Prairie\, 
	Cleunay\, Cleunay - Arsenal-Redon\, Quartiers Ouest\, Rennes\, Ille-et-Vil
	aine\, Bretagne\, France métropolitaine\, 35000\, France
STATUS:CONFIRMED
CATEGORIES:2025,35,Sound System
X-ALT-DESC;FMTTYPE=text/html:<p>💥 NOUVELLE SESSION À RENNES CITY 💥<br>📅 Ven
	dredi 21 novembre<br>📍 BAM – Bâtiment À Modeler, Cleunay<br>🕖 19h – 1h<br>
	🎶 4 scoops pour skanker toute la nuit !<br>🔥 LINE-UP 🔥<br>🎧 Fox In Dub<br>
	🎧 Le Faune Stepper<br>🎧 Pussycat Dub<br>🎤 Steppin' Pablo<br>⚡ INFOS PRATIQ
	UES ⚡<br>🎫 Entrée : <a target="_blank" href="https://www.helloasso.com/...
	/evenements/become-a-fox-7">https://www.helloasso.com/.../evenements/becom
	e-a-fox-7</a><br>• 5€ en prévente<br>• 10€ sur place<br><br>📍 Adresse :<br
	>Bâtiment À Modeler, 2 Rue André Trasbot, 35000 Rennes<br>🚇 Accès :<br>• M
	étro B ou Bus ligne 10, arrêt Cleunay<br>• 12 min à vélo de République<br>
	🚗 Covoiturage recommandé<br>🍺 Buvette sur place<br>🎨 Merci à @gobiward pou
	r l'affiche !<br>❌ Tolérance Zéro face à tout comportement sexiste, racist
	e, homophobe, transphobe ou validiste.<br>❤️ Un seul mot d’ordre : Respect 
	et Bienveillance ❤️</p>
BEGIN:VALARM
ACTION:DISPLAY
DESCRIPTION:Become a Fox #7
TRIGGER:-PT1H
END:VALARM
END:VEVENT
END:VCALENDAR
