BEGIN:VCALENDAR
VERSION:2.0
CALSCALE:GREGORIAN
PRODID:adamgibbons/ics
METHOD:PUBLISH
X-PUBLISHED-TTL:PT1H
BEGIN:VEVENT
UID:64@dubagenda.top
SUMMARY:Become a Fox #6
DTSTAMP:20260421T151322Z
DTSTART:20250912T170000Z
DTEND:20250912T230000Z
DESCRIPTION:💥 RETOUR À RENNES POUR UNE GROSSE SESSION DE RENTREE 💥\n📅 Vendr
	edi 12 septembre\n📍 BAM – Bâtiment À Modeler\, Cleunay\n🕖 19h – 1h\n🎶 4 sc
	oops pour skanker toute la nuit !\n🔥 LINE-UP 🔥\n🎧 Fox In Dub\n🎧 Panzer Ste
	pper\n🎧 Pussycat Dub\n⚡ INFOS PRATIQUES ⚡\n🎫 Entrée : https://www.helloass
	o.com/.../evenements/become-a-fox-6\n[https://www.helloasso.com/.../evenem
	ents/become-a-fox-6]\n• 5€ en prévente\n• 10€ sur place\n\n📍 Adresse :\nBâ
	timent À Modeler\, 2 Rue André Trasbot\, 35000 Rennes\n🚇 Accès :\n• Métro 
	B ou Bus ligne 10\, arrêt Cleunay\n• 12 min à vélo de République\n🚗 Covoit
	urage recommandé\n🍺 Buvette sur place\n🎨 Merci à @gobiward pour l'affiche 
	!\n❌ Tolérance Zéro face à tout comportement sexiste\, raciste\, homophobe
	\,\ntransphobe ou validiste.\n❤️ Un seul mot d’ordre : Respect et Bienveill
	ance ❤️
URL:https://dubagenda.top/event/become-a-fox-6-1
GEO:48.1005348;-1.7092062
LOCATION:35000 Rennes // BAM - 2\, Rue André Trasbot\, La Grande Prairie\, 
	Cleunay\, Cleunay - Arsenal-Redon\, Quartiers Ouest\, Rennes\, Ille-et-Vil
	aine\, Bretagne\, France métropolitaine\, 35000\, France
STATUS:CONFIRMED
CATEGORIES:2025,35,Sound System
X-ALT-DESC;FMTTYPE=text/html:<p>💥 RETOUR À RENNES POUR UNE GROSSE SESSION D
	E RENTREE 💥<br>📅 Vendredi 12 septembre<br>📍 BAM – Bâtiment À Modeler, Cleu
	nay<br>🕖 19h – 1h<br>🎶 4 scoops pour skanker toute la nuit !<br>🔥 LINE-UP 
	🔥<br>🎧 Fox In Dub<br>🎧 Panzer Stepper<br>🎧 Pussycat Dub<br>⚡ INFOS PRATIQU
	ES ⚡<br>🎫 Entrée : <a href="https://www.helloasso.com/.../evenements/becom
	e-a-fox-6" target="_blank">https://www.helloasso.com/.../evenements/become
	-a-fox-6</a><br>• 5€ en prévente<br>• 10€ sur place<br><br>📍 Adresse :<br>
	Bâtiment À Modeler, 2 Rue André Trasbot, 35000 Rennes<br>🚇 Accès :<br>• Mé
	tro B ou Bus ligne 10, arrêt Cleunay<br>• 12 min à vélo de République<br>🚗
	 Covoiturage recommandé<br>🍺 Buvette sur place<br>🎨 Merci à @gobiward pour
	 l'affiche !<br>❌ Tolérance Zéro face à tout comportement sexiste, raciste
	, homophobe, transphobe ou validiste.<br>❤️ Un seul mot d’ordre : Respect e
	t Bienveillance ❤️</p>
BEGIN:VALARM
ACTION:DISPLAY
DESCRIPTION:Become a Fox #6
TRIGGER:-PT1H
END:VALARM
END:VEVENT
END:VCALENDAR
