BEGIN:VCALENDAR
VERSION:2.0
CALSCALE:GREGORIAN
PRODID:adamgibbons/ics
METHOD:PUBLISH
X-PUBLISHED-TTL:PT1H
BEGIN:VEVENT
UID:42@dubagenda.top
SUMMARY:Bass From The Deep
DTSTAMP:20260421T133809Z
DTSTART:20250920T170000Z
DTEND:20250920T230000Z
DESCRIPTION:Nous avons l’immense honneur d’accueillir Itist dub pour la soi
	rée.\nPréparez-vous à un moment unique\, placé sous le signe des bonnes vi
	brations et\ndu partage musical.\n\n📅 Date : 20 septembre\n📍 Lieu : salle 
	émeraude\, locoal mendon 56550\n🎵 Special Guest : Itist dub\n\nNe manquez 
	pas ce rendez-vous — ça va vibrer fort ! 🔊🔥\ndub psy trance deep techno\nC
	’est aussi l’occasion pour nous de vous présenter l’association DEEP SEA e
	t les\ndifférents projets qui nous tiennent à cœur 💙\n\nDu coté du Blue Wa
	ve Sound System\, on retrouvera à la selection Marion pour 1h\nde roots\, 
	Popo Kush pour une sélection dub\, Marcus et Décadence District aux\nplati
	nes pour un set psy trance\, deep house\, techno.\n\nUn grand parking est 
	à votre disposition pour vous garer facilement\, nous\ncomptons sur vous p
	our\n\njouer le jeu : respectez le voisinage et gardez une bonne ambiance 
	autour du\nsite 💙\n\nGrâce à vous\, on pourra continuer à organiser ce gen
	re de soirées en toute\nsérénité.\n\n⚠️ Rappel important ⚠️\n\nL’événement s
	e veut être un espace de partage\, de respect et de bienveillance 💙\n\nNou
	s nous réservons le droit d’exclure immédiatement toute personne prise en\
	nflagrant délit de sexisme\, harcèlement\, violence ou comportement déplac
	é.\n\ntoute sortie définitive après 21h30.\n\nÀ très vite pour Bass From T
	he Deep 🔊🔥\n
URL:https://dubagenda.top/event/bass-from-the-deep
GEO:47.710863;-3.1106616
LOCATION:56550 Locoal Mendon // Salle Emeraude - Rue de Lann Ihuel\, Keroul
	in\, Locoal-Mendon\, Lorient\, Morbihan\, Bretagne\, France métropolitaine
	\, 56550\, France
STATUS:CONFIRMED
CATEGORIES:2025,56,Sound System
X-ALT-DESC;FMTTYPE=text/html:<p>Nous avons l’immense honneur d’accueillir I
	tist dub pour la soirée.<br>Préparez-vous à un moment unique, placé sous l
	e signe des bonnes vibrations et du partage musical.<br><br>📅 Date : 20 se
	ptembre<br>📍 Lieu : salle émeraude, locoal mendon 56550<br>🎵 Special Guest
	 :  Itist dub<br><br>Ne manquez pas ce rendez-vous — ça va vibrer fort ! 🔊
	🔥<br>dub psy trance deep techno<br>C’est aussi l’occasion pour nous de vou
	s présenter l’association DEEP SEA et les différents projets qui nous tien
	nent à cœur 💙 <br><br>Du coté du Blue Wave Sound System, on retrouvera à l
	a selection Marion pour 1h de roots, Popo Kush pour une sélection dub, Mar
	cus et Décadence District aux platines pour un set psy trance, deep house,
	 techno. <br><br>Un grand parking est à votre disposition pour vous garer 
	facilement, nous comptons sur vous pour<br><br> jouer le jeu : respectez l
	e voisinage et gardez une bonne ambiance autour du site 💙<br><br>Grâce à v
	ous, on pourra continuer à organiser ce genre de soirées en toute sérénité
	. <br><br>⚠️ Rappel important ⚠️<br><br>L’événement se veut être un espace d
	e partage, de respect et de bienveillance 💙<br><br>Nous nous réservons le 
	droit d’exclure immédiatement toute personne prise en flagrant délit de se
	xisme, harcèlement, violence ou comportement déplacé.<br><br>toute sortie 
	définitive après 21h30.<br><br>À très vite pour Bass From The Deep 🔊🔥<br> 
	   </p>
BEGIN:VALARM
ACTION:DISPLAY
DESCRIPTION:Bass From The Deep
TRIGGER:-PT1H
END:VALARM
END:VEVENT
END:VCALENDAR
