BEGIN:VCALENDAR
VERSION:2.0
CALSCALE:GREGORIAN
PRODID:adamgibbons/ics
METHOD:PUBLISH
X-PUBLISHED-TTL:PT1H
BEGIN:VEVENT
UID:20@dubagenda.top
SUMMARY:Barbeboum 💥
DTSTAMP:20260421T145910Z
DTSTART:20250920T100000Z
DTEND:20250920T210000Z
DESCRIPTION:Le Propaganda Sound System et l'association Anima'Sound se renc
	ontrent pour vous\nproposer :\n\n🪩 BARBEBOUM 🪩 Un lieu champêtre et bucoli
	que 🌳\n\n▶️▶️▶️11h de session OUTDOOR◀️◀️◀️\n\n🕰️ 12h - 23h : PRIX LIBRE\n\n👢👗Vid
	e-dressing : si tu souhaites t'inscrire écris-nous au 0630889523\n🎯 Tourno
	i de palet sur inscription (5€) au : 0659535093 (Rdv à partir 13h30 sur\nl
	e site)\n🏀 Jeux de plein air possible\, pensez à apporter les vôtres.\n\n🍻
	Bar (Happy hour de 17h à 19h)\n🍗 Free bbq dès 12h\n🌮 Stand food uniquement
	 le soir\n\n\n🎶 YASS 🎶\nBasée à Nantes\, Yasmine est à la fois bijoutière 
	et DJ\, co-fondatrice du duo\nShakti et du Tissé Collectif. Le parcours mu
	sical de Yasmine se dévoile à\ntravers des dubs hypnotiques\, des cuivres 
	résonants\, des messages puissants\, des\nbreaks décalés et de la musique 
	Roots.Ces éléments sonores résonnent avec son\nhéritage issu de la culture
	 Sound System\, une fondation qui a façonné sa\ncollection de vinyles.S’av
	enturant dans une multitude de domaines musicaux\, la\nsélection de Yasmin
	e couvre les genres\, du Dubstep à la Jungle\, de la Drum’n\nbass au UK Ga
	rage\, du Dancehall à l’Amapiano.Le son de Yasmine est un mélange de\nryth
	mes dévotionnels\, de poésie\, tissant ensemble une tapisserie d’expérienc
	es\,\nd’influences et de métissage.\n\n🎶 ANIYA 🎶\nAniya est une chanteuse 
	basée dans la région nantaise. Aux origines plus axée\nsur la soul et le r
	nb\, elle découvre avec des amis le dub au lycée et ensemble\nils montent 
	un collectif et un Sound System\, Ataraxy Sound System. Persuadée que\nle 
	plus puissant des messages reste la musique\, elle a toujours mis toutes s
	es\nconvictions dans ses textes\, en dénonçant notamment les violences fai
	tes aux\nfemmes et la répression policière.\n\n\n🔊 PROGAGANDA SOUND SYSTEM
	 (2 BASS)\nOriginaire des Mauges\, Propaganda est un collectif sound syste
	m dub\, engagé et\nmilitant. Fondé en 2016 par 5 amis d'enfance\, le colle
	ctif promeut\, à travers\nses productions\, sélections mais aussi propres 
	événements les valeurs d'unité\,\nde tolérance et d'accessibilité qui lui 
	sont chères.\nPropaganda sera accompagné de leur dubmaker officiel\, Panze
	r Stepper\, qui\nviendra animer la session avec ses morceaux exclusifs\, s
	pécialement taillés pour\nle sound system. Grandement inspiré par la scène
	 actuelle anglaise\, mais aussi\ncelle des 90's\, Propaganda chine perpétu
	ellement afin de proposer au public des\nsélections toujours différentes.\
	n\n\nBARBEBOUM ne se situe qu'à 30 minutes au sud-est de Nantes dans le vi
	gnoble\nNantais. Sur le site du Biau Dimanche au Bois Jahan à Barbechat.\n
	📍Point GPS : 47.268016\,-1.295246\n\n♻️ Vous êtes responsables de vos déche
	ts\,\nMerci de respecter les lieux et de laisser le parking propre\n\n❌ Bi
	en évidemment\, aucun comportement discriminant\, quel qu'il soit\, ne ser
	a\ntoléré\, sous peine d'exclusion de la soirée. Anti raciste\, anti sexis
	te\, anti\nhomophobe ❌\n\nRespect and unity 💟
URL:https://dubagenda.top/event/barbeboum
GEO:47.268016;-1.295246
LOCATION:44450 Barbechat - La Petite Graholière\, Barbechat\, Divatte-sur-L
	oire\, Nantes\, Loire-Atlantique\, Pays de la Loire\, France métropolitain
	e\, 44450\, France
STATUS:CONFIRMED
CATEGORIES:2025,Nantes,Sound System
X-ALT-DESC;FMTTYPE=text/html:<p>Le Propaganda Sound System et l'association
	 Anima'Sound se rencontrent pour vous proposer :<br><br>🪩 BARBEBOUM 🪩 Un l
	ieu champêtre et bucolique 🌳<br><br>▶️▶️▶️11h de session OUTDOOR◀️◀️◀️<br><br>🕰️ 
	12h - 23h : PRIX LIBRE<br><br>👢👗Vide-dressing : si tu souhaites t'inscrire
	 écris-nous au 0630889523<br>🎯 Tournoi de palet sur inscription (5€) au : 
	0659535093 (Rdv à partir 13h30 sur le site)<br>🏀 Jeux de plein air possibl
	e, pensez à apporter les vôtres.<br><br>🍻Bar (Happy hour de 17h à 19h)<br>
	🍗 Free bbq dès 12h<br>🌮 Stand food uniquement le soir<br><br><br>🎶 YASS 🎶<
	br>Basée à Nantes, Yasmine est à la fois bijoutière et DJ, co-fondatrice d
	u duo Shakti et du Tissé Collectif. Le parcours musical de Yasmine se dévo
	ile à travers des dubs hypnotiques, des cuivres résonants, des messages pu
	issants, des breaks décalés et de la musique Roots.Ces éléments sonores ré
	sonnent avec son héritage issu de la culture Sound System, une fondation q
	ui a façonné sa collection de vinyles.S’aventurant dans une multitude de d
	omaines musicaux, la sélection de Yasmine couvre les genres, du Dubstep à 
	la Jungle, de la Drum’n bass au UK Garage, du Dancehall à l’Amapiano.Le so
	n de Yasmine est un mélange de rythmes dévotionnels, de poésie, tissant en
	semble une tapisserie d’expériences, d’influences et de métissage.<br><br>
	🎶 ANIYA 🎶<br>Aniya est une chanteuse basée dans la région nantaise. Aux or
	igines plus axée sur la soul et le rnb, elle découvre avec des amis le dub
	 au lycée et ensemble ils montent un collectif et un Sound System, Ataraxy
	 Sound System. Persuadée que le plus puissant des messages reste la musiqu
	e, elle a toujours mis toutes ses convictions dans ses textes, en dénonçan
	t notamment les violences faites aux femmes et la répression policière.<br
	><br><br>🔊 PROGAGANDA SOUND SYSTEM (2 BASS)<br>Originaire des Mauges, Prop
	aganda est un collectif sound system dub, engagé et militant. Fondé en 201
	6 par 5 amis d'enfance, le collectif promeut, à travers ses productions, s
	élections mais aussi propres événements les valeurs d'unité, de tolérance 
	et d'accessibilité qui lui sont chères.<br>Propaganda sera accompagné de l
	eur dubmaker officiel, Panzer Stepper, qui viendra animer la session avec 
	ses morceaux exclusifs, spécialement taillés pour le sound system. Grandem
	ent inspiré par la scène actuelle anglaise, mais aussi celle des 90's, Pro
	paganda chine perpétuellement afin de proposer au public des sélections to
	ujours différentes.<br><br><br>BARBEBOUM ne se situe qu'à 30 minutes au su
	d-est de Nantes dans le vignoble Nantais. Sur le site du Biau Dimanche au 
	Bois Jahan à Barbechat.<br>📍Point GPS : 47.268016,-1.295246<br><br>♻️ Vous 
	êtes responsables de vos déchets,<br>Merci de respecter les lieux et de la
	isser le parking propre<br><br>❌ Bien évidemment, aucun comportement discr
	iminant, quel qu'il soit, ne sera toléré, sous peine d'exclusion de la soi
	rée. Anti raciste, anti sexiste, anti homophobe ❌<br><br>Respect and unity
	 💟</p>
BEGIN:VALARM
ACTION:DISPLAY
DESCRIPTION:Barbeboum 💥
TRIGGER:-PT1H
END:VALARM
END:VEVENT
END:VCALENDAR
