BEGIN:VCALENDAR
VERSION:2.0
CALSCALE:GREGORIAN
PRODID:adamgibbons/ics
METHOD:PUBLISH
X-PUBLISHED-TTL:PT1H
BEGIN:VEVENT
UID:134@dubagenda.top
SUMMARY:Back To The Roots // Osmoz meets Siren Dub Sound System
DTSTAMP:20260421T135458Z
DTSTART:20260306T190000Z
DTEND:20260307T000000Z
DESCRIPTION:*BACK TO THE ROOTS*\nOn remet le couvert avec les big tontons @
	osmoz.sound pour une belle date début\nmars !!\nCette fois-ci\, on ramène 
	la sono dans le 79 dans un spot bien connu des sound\nsystem : @minuteblon
	demauleon !!\n☑️ Prix libre\, conscient (espèces et CB)\n🗓️ Vendredi 6 mars 
	2026\n🕦 20h - 1h\n📍La Minute Blonde Mauléon (79700)\nOn espère vous voir n
	ombreuses et nombreux !! 🫶🏼\n@minuteblondemauleon\n@osmoz.sound\n@siren.dub
	.soundsystem
URL:https://dubagenda.top/event/back-to-the-roots-osmoz-meets-siren-dub-sou
	nd-system
GEO:46.9227679;-0.7389893
LOCATION:79700 Mauléon // La Minute Blonde - La minute blonde\, Rue de Poit
	iers\, Les Marchais\, Mauléon\, Bressuire\, Deux-Sèvres\, Nouvelle-Aquitai
	ne\, France métropolitaine\, 79700\, France
STATUS:CONFIRMED
CATEGORIES:2026,79,Sound System
X-ALT-DESC;FMTTYPE=text/html:<p>*BACK TO THE ROOTS*<br>On remet le couvert 
	avec les big tontons @osmoz.sound pour une belle date début mars !! <br>Ce
	tte fois-ci, on ramène la sono dans le 79 dans un spot bien connu des soun
	d system : @minuteblondemauleon !!<br>☑️ Prix libre, conscient (espèces et 
	CB)<br>🗓️ Vendredi 6 mars 2026<br>🕦 20h - 1h<br>📍La Minute Blonde Mauléon (
	79700)<br>On espère vous voir nombreuses et nombreux !! 🫶🏼<br>@minuteblonde
	mauleon <br>@osmoz.sound <br>@siren.dub.soundsystem</p>
BEGIN:VALARM
ACTION:DISPLAY
DESCRIPTION:Back To The Roots // Osmoz meets Siren Dub Sound System
TRIGGER:-PT1H
END:VALARM
END:VEVENT
END:VCALENDAR
