BEGIN:VCALENDAR
VERSION:2.0
CALSCALE:GREGORIAN
PRODID:adamgibbons/ics
METHOD:PUBLISH
X-PUBLISHED-TTL:PT1H
BEGIN:VEVENT
UID:68@dubagenda.top
SUMMARY:Back Again // Green Oak Sound System
DTSTAMP:20260421T151353Z
DTSTART:20251024T170000Z
DTEND:20251025T010000Z
DESCRIPTION:Hello la famille!!🫶🫶 Je suis heureux et honoré de vous annoncer
	 la prochaine\nsoirée avec les frérots @lemanegeenchantier @snorri_dareal 
	@abso_music Merci\nbeaucoup pour l'invitation ! On sortira pour la toute p
	remière fois les 6 basses\nen full stack!! RDV Vendredi 24 Octobre salle C
	ap Nort de 19h à 3h! 🔥🔥🔥
URL:https://dubagenda.top/event/back-again-green-oak-sound-system
GEO:47.4372034;-1.5078791
LOCATION:44390 Nort-sur-Erdre // Salle Cap Nort - Rue d'Ardéa\, Nort-sur-Er
	dre\, Châteaubriant-Ancenis\, Loire-Atlantique\, Pays de la Loire\, France
	 métropolitaine\, 44390\, France
STATUS:CONFIRMED
CATEGORIES:2025,Nantes,Sound System
X-ALT-DESC;FMTTYPE=text/html:<p>Hello la famille!!🫶🫶 Je suis heureux et hon
	oré de vous annoncer la prochaine soirée avec les frérots @lemanegeenchant
	ier @snorri_dareal @abso_music Merci beaucoup pour l'invitation ! On sorti
	ra pour la toute première fois les 6 basses en full stack!! RDV Vendredi 2
	4 Octobre salle Cap Nort de 19h à 3h! 🔥🔥🔥</p>
BEGIN:VALARM
ACTION:DISPLAY
DESCRIPTION:Back Again // Green Oak Sound System
TRIGGER:-PT1H
END:VALARM
END:VEVENT
END:VCALENDAR
