BEGIN:VCALENDAR
VERSION:2.0
CALSCALE:GREGORIAN
PRODID:adamgibbons/ics
METHOD:PUBLISH
X-PUBLISHED-TTL:PT1H
BEGIN:VEVENT
UID:53@dubagenda.top
SUMMARY:Anima Sound invite Bassline Soldiers et Lune
DTSTAMP:20260421T152127Z
DTSTART:20251003T170000Z
DTEND:20251003T230000Z
DESCRIPTION:🔥🎶🔊 ANIMA'SOUND PRÉSENTE 2 ARTISTES À LA BRASSERIE ! 🔊🎶🔥\nPrépa
	rez-vous à faire trembler les murs et à réchauffer les cœurs !\nL'associat
	ion Anima'Sound est incroyablement fière de vous présenter une soirée\n🚀 E
	XPLOSIVE 🚀 avec deux pépites incontournables de la scène Sound System :\nB
	assline Soldiers et Lune !\nhttps://www.facebook.com/AssociationAnimaSound
	/\n[https://www.facebook.com/AssociationAnimaSound/]\nRendez-vous le Vendr
	edi 3 Octobre à la Brasserie de Clisson pour une soirée\nmémorable sous le
	 signe du reggae 🇯🇲\, du roots profond 🌱 et du dub puissant\n🔊. Attendez-vo
	us à des sélections pointues\, des basses profondes qui massent\nl'âme et 
	une ambiance des plus chaleureuses et vibrantes !\nDécouvrez nos artistes 
	de la soirée :\n🎶 BassLine Soldiers 🎶\nCe sont deux amis nantais\, unis pa
	r une passion dévorante pour la culture Sound\nSystem et la scène Reggae /
	 Dub\, qui les inspirent depuis des années. Portés par\nl'énergie contagie
	use des sessions auxquelles ils ont participé\, ils ont décidé\nde devenir
	 à leur tour des acteurs de ce mouvement\, afin de transmettre les\nvaleur
	s qui les animent : Amour ❤️\, Partage 🙌 et Unité 🤝. À travers leurs\nsélec
	tions\, du roots le plus profond aux steppers les plus puissants\, ils vou
	s\ninvitent à un véritable voyage sonore 🌌\, mêlant originalité\, puissanc
	e des\npercussions et la rondeur inégalable de la bassline.\n"BassLine Sol
	diers… Welcome inna the dance" ! 🕺💃\n🌚 Lune 🌚\nNantaise de 28 ans\, après 
	de longues années passées à vibrer et participer aux\nsessions dub de Loir
	e-Atlantique et d'ailleurs en tant qu'auditrice passionnée\net bénévole\, 
	c'est à son tour de vous faire découvrir son univers musical unique\n! Pré
	parez vos oreilles !\nVenez danser 🕺\, partager des bonnes vibes 🤗 et célé
	brer la culture Sound\nSystem avec nous. On vous promet une ambiance et un
	e vibe inégalables ! ✨\n🗓️ Date : Vendredi 3 Octobre\n📍 Infos pratiques :\n
	Lieu : La Brasserie\, 4 Rue du Puits de la Grange\, 44190 Clisson 📍\nDate 
	et heure : Vendredi 3 Octobre\, dès 19h ⏰\n🎤 Line-up : Bassline Soldiers &
	 Lune (Présentés par Anim'A'Sound)\n🎟️ Entrée : Prix libre (8€ prix conscie
	nt pour soutenir la culture ! 🙏)\n🍻 Boissons : 9 bières artisanales pressi
	on 🍺\, vins 🍷\, cocktails 🍹\, softs\n🥤...\nInvitez vos amis et partagez l'
	événement pour que la Brasserie résonne comme\njamais !
URL:https://dubagenda.top/event/anima-sound-invite-bassline-soldiers-et-lun
	e
GEO:47.0771943;-1.2927011
LOCATION:44190 Clisson // Les Papas Brasseurs - 4\, Rue du Puits de la Gran
	ge\, Zone d'activité de Tabari\, La Haute Grange\, Clisson\, Nantes\, Loir
	e-Atlantique\, Pays de la Loire\, France métropolitaine\, 44190\, France
STATUS:CONFIRMED
CATEGORIES:2025,Nantes,Sound System
X-ALT-DESC;FMTTYPE=text/html:<p>🔥🎶🔊 ANIMA'SOUND PRÉSENTE 2 ARTISTES À LA BR
	ASSERIE ! 🔊🎶🔥<br>Préparez-vous à faire trembler les murs et à réchauffer l
	es cœurs ! L'association Anima'Sound est incroyablement fière de vous prés
	enter une soirée 🚀 EXPLOSIVE 🚀 avec deux pépites incontournables de la scè
	ne Sound System : Bassline Soldiers et Lune !<br><a target="_blank" href="
	https://www.facebook.com/AssociationAnimaSound/">https://www.facebook.com/
	AssociationAnimaSound/</a><br>Rendez-vous le Vendredi 3 Octobre à la Brass
	erie de Clisson pour une soirée mémorable sous le signe du reggae 🇯🇲, du ro
	ots profond 🌱 et du dub puissant 🔊. Attendez-vous à des sélections pointue
	s, des basses profondes qui massent l'âme et une ambiance des plus chaleur
	euses et vibrantes !<br>Découvrez nos artistes de la soirée :<br>🎶 BassLin
	e Soldiers 🎶<br>Ce sont deux amis nantais, unis par une passion dévorante 
	pour la culture Sound System et la scène Reggae / Dub, qui les inspirent d
	epuis des années. Portés par l'énergie contagieuse des sessions auxquelles
	 ils ont participé, ils ont décidé de devenir à leur tour des acteurs de c
	e mouvement, afin de transmettre les valeurs qui les animent : Amour ❤️, Pa
	rtage 🙌 et Unité 🤝. À travers leurs sélections, du roots le plus profond a
	ux steppers les plus puissants, ils vous invitent à un véritable voyage so
	nore 🌌, mêlant originalité, puissance des percussions et la rondeur inégal
	able de la bassline.<br>"BassLine Soldiers… Welcome inna the dance" ! 🕺💃<b
	r>🌚 Lune 🌚<br>Nantaise de 28 ans, après de longues années passées à vibrer
	 et participer aux sessions dub de Loire-Atlantique et d'ailleurs en tant 
	qu'auditrice passionnée et bénévole, c'est à son tour de vous faire découv
	rir son univers musical unique ! Préparez vos oreilles !<br>Venez danser 🕺
	, partager des bonnes vibes 🤗 et célébrer la culture Sound System avec nou
	s. On vous promet une ambiance et une vibe inégalables ! ✨<br>🗓️ Date : Ven
	dredi 3 Octobre<br>📍 Infos pratiques :<br>Lieu : La Brasserie, 4 Rue du Pu
	its de la Grange, 44190 Clisson 📍<br>Date et heure : Vendredi 3 Octobre, d
	ès 19h ⏰<br>🎤 Line-up : Bassline Soldiers &amp; Lune (Présentés par Anim'A
	'Sound)<br>🎟️ Entrée : Prix libre (8€ prix conscient pour soutenir la cultu
	re ! 🙏)<br>🍻 Boissons : 9 bières artisanales pression 🍺, vins 🍷, cocktails
	 🍹, softs 🥤...<br>Invitez vos amis et partagez l'événement pour que la Bra
	sserie résonne comme jamais !</p>
BEGIN:VALARM
ACTION:DISPLAY
DESCRIPTION:Anima Sound invite Bassline Soldiers et Lune
TRIGGER:-PT1H
END:VALARM
END:VEVENT
END:VCALENDAR
