BEGIN:VCALENDAR
VERSION:2.0
CALSCALE:GREGORIAN
PRODID:adamgibbons/ics
METHOD:PUBLISH
X-PUBLISHED-TTL:PT1H
BEGIN:VEVENT
UID:138@dubagenda.top
SUMMARY:After Party Cann'Agri // RDH & Krak In Dub
DTSTAMP:20260421T152037Z
DTSTART:20260328T180000Z
DTEND:20260329T000000Z
DESCRIPTION:RDH HI FI\nRDH Hi-Fi\, c’est un voyage qui permet la rencontre 
	des différents styles qui ont\nmarqué l’histoire du reggae et du dub\, jus
	qu’aux productions futuristes et\nexpérimentales inspirées de la bass musi
	c ou de la techno.\nAu travers d’un mix fin et énergique\, le duo propose 
	une rencontre de ces\nunivers musicaux sur leur point commun : le sound-sy
	stem !\n\nKrak In Dub\nKrak in Dub est le projet live électronique de Fede
	rico Trujillo artiste au\nparcours multiculturel influencé par les traditi
	ons latino-américaines\, les\nmusiques rituelles et le jazz.\nDJ\, product
	eur et soundman au sein du Mas I Mas Sound System\, fondateur de\nlabels d
	e référence (Fogata Sounds / Galletas Calientes) il livre un live\n“Dub2Ju
	ngle” à la croisée du dub\, des musiques électroniques et de la culture\ns
	ound system contemporaine.
URL:https://dubagenda.top/event/after-party-cannagri-rdh-and-krak-in-dub
GEO:47.2001184;-1.5644423
LOCATION:44200 Nantes // L'Agronaute - L'aGroNauTe\, Rue du Sénégal\, Île S
	ainte-Anne\, Sainte-Anne - Zone portuaire\, Île de Nantes\, Nantes\, Loire
	-Atlantique\, Pays de la Loire\, France métropolitaine\, 44262\, France
STATUS:CONFIRMED
CATEGORIES:Nantes,2026,Sound System
X-ALT-DESC;FMTTYPE=text/html:<p>RDH HI FI <br>RDH Hi-Fi, c’est un voyage qu
	i permet la rencontre des différents styles qui ont marqué l’histoire du r
	eggae et du dub, jusqu’aux productions futuristes et expérimentales inspir
	ées de la bass music ou de la techno.<br>Au travers d’un mix fin et énergi
	que, le duo propose une rencontre de ces univers musicaux sur leur point c
	ommun : le sound-system !</p><p>Krak In Dub <br>Krak in Dub est le projet 
	live électronique de Federico Trujillo artiste au parcours multiculturel i
	nfluencé par les traditions latino-américaines, les musiques rituelles et 
	le jazz. <br>DJ, producteur et soundman au sein du Mas I Mas Sound System,
	 fondateur de labels de référence (Fogata Sounds / Galletas Calientes) il 
	livre un live “Dub2Jungle” à la croisée du dub, des musiques électroniques
	 et de la culture sound system contemporaine.</p>
BEGIN:VALARM
ACTION:DISPLAY
DESCRIPTION:After Party Cann'Agri // RDH & Krak In Dub
TRIGGER:-PT1H
END:VALARM
END:VEVENT
END:VCALENDAR
