BEGIN:VCALENDAR
VERSION:2.0
CALSCALE:GREGORIAN
PRODID:adamgibbons/ics
METHOD:PUBLISH
X-PUBLISHED-TTL:PT1H
BEGIN:VEVENT
UID:103@dubagenda.top
SUMMARY:Afropean Riddim // Kebra Ethiopia 🇿🇦 // Yessaya Sound System 
DTSTAMP:20260421T152036Z
DTSTART:20260130T190000Z
DTEND:20260131T010000Z
DESCRIPTION:AFROPEAN RIDDIM – Une traversée sonore\, poétique et politique\
	n2 nuits portées par la diaspora et ses résonances\n\n\nJEUDI 29 JANVIER 2
	026 // 18:00 - 20:00\nUne discussion et table ronde personnelle avec Kebra
	 Ethiopia\, ainsi que d’une\nintroduction à la soirée qui se déroule le le
	ndemain à Trempo.\nLieu : LA LICORNE NOIRE\n14 bis Rue de Mayence\, 44000 
	Nantes\nHoraire : 18h - 20h\nTarif : gratuit\n\n\nVENDREDI 30 JANVIER 2026
	 // 20:00 - 2:00\nUne nuit de poésie\, de danse et de dubs\, portée par la
	 diaspora et ses\nrésonances.\nAvec Kebra Ethiopia Sound System (Afrique d
	u sud)\, symbole de résistance et\nd’unité à travers le reggae\, nous expl
	orons le pouvoir du son : celui qui\nsoigne\, relie et fait communauté. Un
	e traversée sensorielle\, poétique et\npolitique entre les voix\, les corp
	s et les basses.\nLieu : Trempo\, Le Club\n6 Bd Léon Bureau\, 44200 Nantes
	\nHoraire : 20:00 - 2:00\nTarif : 10 €
URL:https://dubagenda.top/event/afropean-riddim-kebra-ethiopia-yessaya-soun
	d-system
GEO:47.2046344;-1.5629527
LOCATION:44200 Nantes // Trempo - Boulevard de la Prairie au Duc\, Sainte-A
	nne - Zone portuaire\, Île de Nantes\, Nantes\, Loire-Atlantique\, Pays de
	 la Loire\, France métropolitaine\, 44276\, France
STATUS:CONFIRMED
CATEGORIES:Nantes,2026,Sound System
X-ALT-DESC;FMTTYPE=text/html:<p>AFROPEAN RIDDIM – Une traversée sonore, poé
	tique et politique<br>2 nuits portées par la diaspora et ses résonances<br
	><br><br>JEUDI 29 JANVIER 2026 // 18:00 - 20:00<br>Une discussion et table
	 ronde personnelle avec Kebra Ethiopia, ainsi que d’une introduction à la 
	soirée qui se déroule le lendemain à Trempo.<br>Lieu : LA LICORNE NOIRE<br
	>14 bis Rue de Mayence, 44000 Nantes<br>Horaire : 18h - 20h<br>Tarif : gra
	tuit<br><br><br>VENDREDI 30 JANVIER 2026 // 20:00 - 2:00<br>Une nuit de po
	ésie, de danse et de dubs, portée par la diaspora et ses résonances.<br>Av
	ec Kebra Ethiopia Sound System (Afrique du sud), symbole de résistance et 
	d’unité à travers le reggae, nous explorons le pouvoir du son : celui qui 
	soigne, relie et fait communauté. Une traversée sensorielle, poétique et p
	olitique entre les voix, les corps et les basses.<br>Lieu : Trempo, Le Clu
	b<br>6 Bd Léon Bureau, 44200 Nantes<br>Horaire : 20:00 - 2:00<br>Tarif : 1
	0 €</p>
BEGIN:VALARM
ACTION:DISPLAY
DESCRIPTION:Afropean Riddim // Kebra Ethiopia 🇿🇦 // Yessaya Sound System 
TRIGGER:-PT1H
END:VALARM
END:VEVENT
END:VCALENDAR
