BEGIN:VCALENDAR
VERSION:2.0
CALSCALE:GREGORIAN
PRODID:adamgibbons/ics
METHOD:PUBLISH
X-PUBLISHED-TTL:PT1H
BEGIN:VEVENT
UID:170@dubagenda.top
SUMMARY:Adjololo Dub Island #4 // Musically Mad Melodub
DTSTAMP:20260421T134341Z
DTSTART:20260417T170000Z
DTEND:20260418T000000Z
DESCRIPTION:ADJOLOLO DUB ISLAND #4\n\n🔊 On se retrouve pour une 4ème Adjolo
	lo Dub Island\, viens fêter les beaux jours\navec nous pour une session so
	und system printanière. Cette fois\, on accueille\ndeux crews implantés de
	puis longtemps dans la région nantaise pour une session\nsound system à l’
	ancienne.\n\n🔊 MUSCIALLY MAD SOUND SYSTEM Depuis plus de 15 ans\, Musicall
	y Mad Sound System\npromeut la musique reggae dans la pure tradition des s
	ound systems UK\, sur une\nsono artisanale inna roots & culture style. Le 
	crew ramène son système pour une\nsession puissante et authentique\, du ro
	ots au stepper.\n\n🔊 MELODUB SOUND SYSTEM Melodub Sound System est un proj
	et né de passionnés de\nreggae et de culture sound system. Fidèle à l’espr
	it DIY\, le crew construit ses\npremières boxs en 2012 de manière artisana
	le. Inspiré par les grands noms du\nsound system UK\, le crew propose des 
	sélections éclectiques allant du roots au\ndub stepper.\n\n💸 Tarifs Préven
	tes & adhérents Adjololo : 6€ Sur place : 8€ 🕖 19h → 02h\n\n📍 Studio Adjol
	olo — Vallons de l’Erdre\n\n🍻 Bar sur place\n\n🍴 Restauration sur place\n\
	n⛺ Camping possible sur place\n\n⚠️ Pour des raisons de sécurité\, nos amis
	 les animaux ne sont pas admis sur le\nsite.\n\n🌞 Le lendemain — samedi 18
	 avril — même place\, même heure : soirée concerts en\nsoutien au collecti
	f Stop Belenos ! Alors restez sur place pour un week-end\ncomplet.
URL:https://dubagenda.top/event/adjololo-dub-island-4-musically-mad-melodub
GEO:47.5513024;-1.0743567
LOCATION:44540 Les Vallons de l'Erdre // Studio Adjololo - Chemin des Frome
	ntinières\, Les Fromentinières\, Freigné\, Vallons-de-l'Erdre\, Châteaubri
	ant-Ancenis\, Loire-Atlantique\, Pays de la Loire\, France métropolitaine\
	, 49440\, France
STATUS:CONFIRMED
CATEGORIES:Nantes,2026,Sound System
X-ALT-DESC;FMTTYPE=text/html:<p>ADJOLOLO DUB ISLAND #4</p><p>🔊 On se retrou
	ve pour une 4ème Adjololo Dub Island, viens fêter les beaux jours avec nou
	s pour une session sound system printanière. Cette fois, on accueille deux
	 crews implantés depuis longtemps dans la région nantaise pour une session
	 sound system à l’ancienne. </p><p>🔊 MUSCIALLY MAD SOUND SYSTEM Depuis plu
	s de 15 ans, Musically Mad Sound System promeut la musique reggae dans la 
	pure tradition des sound systems UK, sur une sono artisanale inna roots &a
	mp; culture style. Le crew ramène son système pour une session puissante e
	t authentique, du roots au stepper. </p><p>🔊 MELODUB SOUND SYSTEM Melodub 
	Sound System est un projet né de passionnés de reggae et de culture sound 
	system. Fidèle à l’esprit DIY, le crew construit ses premières boxs en 201
	2 de manière artisanale. Inspiré par les grands noms du sound system UK, l
	e crew propose des sélections éclectiques allant du roots au dub stepper. 
	</p><p>💸 Tarifs Préventes &amp; adhérents Adjololo : 6€ Sur place : 8€ 🕖 1
	9h → 02h </p><p>📍 Studio Adjololo — Vallons de l’Erdre </p><p>🍻 Bar sur pl
	ace </p><p>🍴 Restauration sur place </p><p>⛺ Camping possible sur place </
	p><p>⚠️ Pour des raisons de sécurité, nos amis les animaux ne sont pas admi
	s sur le site. </p><p>🌞 Le lendemain — samedi 18 avril — même place, même 
	heure : soirée concerts en soutien au collectif Stop Belenos ! Alors reste
	z sur place pour un week-end complet.</p>
BEGIN:VALARM
ACTION:DISPLAY
DESCRIPTION:Adjololo Dub Island #4 // Musically Mad Melodub
TRIGGER:-PT1H
END:VALARM
END:VEVENT
END:VCALENDAR
