BEGIN:VCALENDAR
VERSION:2.0
CALSCALE:GREGORIAN
PRODID:adamgibbons/ics
METHOD:PUBLISH
X-PUBLISHED-TTL:PT1H
BEGIN:VEVENT
UID:158@dubagenda.top
SUMMARY:28 ans Oneness Records // Sono Mondiale
DTSTAMP:20260421T134116Z
DTSTART:20260418T190000Z
DTEND:20260419T020000Z
DESCRIPTION:Oneness Records fête ses 28 ans au Pannonica avec\nLa Sono Mond
	iale. Sélecteurs : Ras Abubakar\, Chilly Jay et Mat Tematik.\nOpérateur : 
	I Youth Tubby. M.C. : Prince\nLa Sono Mondiale a vu le jour il y a mainten
	ant une vingtaine d'années. Elle est\ncomposée de membres de Zion Gate Hi-
	Fi\; pionnier des sound system reggae en\nFrance. Il ne s'agit pas du conc
	ept popularisé par Jean-François Bizot du\nmagazine Actuel et de radio Nov
	a qui parle de sono mondiale pour définir la\nrésonance qu'une musique con
	çue au Nigeria par exemple\, peut\navoir aux quatre coins de la planète. E
	n ce qui nous concerne\, il s'agit de la\nsono de Zion Gate et la musique 
	que nous jouons vient de partout et surtout\nd'ailleurs... Il s'agit d'un 
	voyage musical qui passe par Bamako\, Fort de\nFrance\, la Nouvelle Orlean
	s\, Port au Prince\, Lagos\, Addis Abeba\,\nKinshasa\,Cartagena\, Pointe à
	 Pitre\, Kingston\, Bahia et bien d'autres\ndestinations musicales. La faç
	on de jouer vient des sound system reggae\; c'est à\ndire une\nseule plati
	ne\, un pré-amp\, une chambre d'écho\, une sirène et un micro.\nhttps://1n
	ess.fr/la-sono-mondiale/ [https://1ness.fr/la-sono-mondiale/]
URL:https://dubagenda.top/event/28-ans-oneness-records-sono-mondiale
GEO:47.2208629;-1.5584078
LOCATION:44000 Nantes // Pannonica - Rue Basse Porte\, Talensac\, Talensac 
	- Pont Morand\, Hauts-Pavés - Saint-Félix\, Nantes\, Loire-Atlantique\, Pa
	ys de la Loire\, France métropolitaine\, 44036\, France
STATUS:CONFIRMED
CATEGORIES:Nantes,2026,Sound System
X-ALT-DESC;FMTTYPE=text/html:<p>Oneness Records fête ses 28 ans au Pannonic
	a avec<br>La Sono Mondiale. Sélecteurs : Ras Abubakar, Chilly Jay et Mat T
	ematik. Opérateur : I Youth Tubby. M.C. : Prince<br>La Sono Mondiale a vu 
	le jour il y a maintenant une vingtaine d'années. Elle est composée de mem
	bres de Zion Gate Hi-Fi; pionnier des sound system reggae en France. Il ne
	 s'agit pas du concept popularisé par Jean-François Bizot du magazine Actu
	el et de radio Nova qui parle de sono mondiale pour définir la résonance q
	u'une musique conçue au Nigeria par exemple, peut<br>avoir aux quatre coin
	s de la planète. En ce qui nous concerne, il s'agit de la sono de Zion Gat
	e et la musique que nous jouons vient de partout et surtout d'ailleurs... 
	Il s'agit d'un voyage musical qui passe par Bamako, Fort de<br>France, la 
	Nouvelle Orleans, Port au Prince, Lagos, Addis Abeba, Kinshasa,Cartagena, 
	Pointe à Pitre, Kingston, Bahia et bien d'autres destinations musicales. L
	a façon de jouer vient des sound system reggae; c'est à dire une<br>seule 
	platine, un pré-amp, une chambre d'écho, une sirène et un micro.<br><a hre
	f="https://1ness.fr/la-sono-mondiale/" target="_blank">https://1ness.fr/la
	-sono-mondiale/</a></p>
BEGIN:VALARM
ACTION:DISPLAY
DESCRIPTION:28 ans Oneness Records // Sono Mondiale
TRIGGER:-PT1H
END:VALARM
END:VEVENT
END:VCALENDAR
