BEGIN:VCALENDAR
VERSION:2.0
CALSCALE:GREGORIAN
PRODID:adamgibbons/ics
METHOD:PUBLISH
X-PUBLISHED-TTL:PT1H
BEGIN:VEVENT
UID:109@dubagenda.top
SUMMARY:20 000 Bass Sous Les Mers
DTSTAMP:20260421T140913Z
DTSTART:20260110T150000Z
DTEND:20260111T004500Z
DESCRIPTION:20 000 BASS SOUS LES MERS 🧜‍♀️\n\nOn vous embarque le samedi 10 ja
	nvier en mission dans les abysses rababoomesque\,\nlà où basses fréquences
	 et poissons massifs se rencontrent 🌊\n\nLa crème de la crème des explorat
	eur.ices sub-marins\, @lojeh_dj et @elohize \,\nseront présent.es [http://
	présent.es] pour nous accompagner dans la découverte\nd’un mystérieux soun
	d system gravé dans la roche 🪨🪸\n\nProgramme chargé\, 10h de fête 😱🪩 💚\n\n
	Marché de créateur.ices avec les talentueux.ses @sale.gosse.tt\n[http://sa
	le.gosse.tt] @molusk___ et @chatokromer + la rabateam\n@nosoucispasdeick @
	gommme @kotenso @titina_juliette @strange_angry_child\n@b0rdaline (cash on
	ly) 💛\n\nRepas prix cool sur place 🧡\n\nDeco/sceno immersive par la rabate
	am\n\n📆Samedi 10 Janvier\n\n📍Cold crash\, 4 Rue du Seil Rezé\n\n🕚16h-1h45\
	n\n🎶Reggae\, Dub\, Dubstep\, Jungle\, Drum & Bass\n\n🫶Entrée prix libre\n\
	n🚃 Accès : Tram 2 arrêt Gare de Pont Rousseau Tram 3 arrêt 8 Mai Bus 36 ar
	rêt\nHaute île\n\n‼️No relou.es [http://relou.es]‼️ AUCUN COMPORTEMENT\, GES
	TE OU REMARQUE DÉPLACÉ\nNE SERA TOLÉRÉ\n\nSuperbe affiche par les queen @g
	ommme et @b0rdaline gros big up 👑
URL:https://dubagenda.top/event/20-000-bass-sous-les-mers
GEO:47.1949813;-1.556941
LOCATION:44400 Rezé // Cold Crash - Brasserie Nautile\, 4\, Rue du Seil\, L
	e Port Au Blé\, Haute Île\, Rezé\, Nantes\, Loire-Atlantique\, Pays de la 
	Loire\, France métropolitaine\, 44400\, France
STATUS:CONFIRMED
CATEGORIES:Nantes,2026,Sound System
X-ALT-DESC;FMTTYPE=text/html:<p>20 000 BASS SOUS LES MERS 🧜‍♀️ </p><p>On vous 
	embarque le samedi 10 janvier en mission dans les abysses rababoomesque, l
	à où basses fréquences et poissons massifs se rencontrent 🌊 </p><p>La crèm
	e de la crème des explorateur.ices sub-marins, @lojeh_dj et @elohize , ser
	ont <a target="_blank" href="http://présent.es">présent.es</a> pour nous a
	ccompagner dans la découverte d’un mystérieux sound system gravé dans la r
	oche 🪨🪸 </p><p>Programme chargé, 10h de fête 😱🪩 💚 </p><p>Marché de créateu
	r.ices avec les talentueux.ses @<a target="_blank" href="http://sale.gosse
	.tt">sale.gosse.tt</a> @molusk___ et @chatokromer + la rabateam @nosoucisp
	asdeick @gommme @kotenso @titina_juliette @strange_angry_child @b0rdaline 
	(cash only) 💛 </p><p>Repas prix cool sur place 🧡 </p><p>Deco/sceno immersi
	ve par la rabateam </p><p>📆Samedi 10 Janvier </p><p>📍Cold crash, 4 Rue du 
	Seil Rezé </p><p>🕚16h-1h45 </p><p>🎶Reggae, Dub, Dubstep, Jungle, Drum &amp
	; Bass </p><p>🫶Entrée prix libre </p><p>🚃 Accès : Tram 2 arrêt Gare de Pon
	t Rousseau Tram 3 arrêt 8 Mai Bus 36 arrêt Haute île </p><p>‼️No <a target=
	"_blank" href="http://relou.es">relou.es</a>‼️ AUCUN COMPORTEMENT, GESTE OU
	 REMARQUE DÉPLACÉ NE SERA TOLÉRÉ </p><p>Superbe affiche par les queen @gom
	mme et @b0rdaline gros big up 👑</p>
BEGIN:VALARM
ACTION:DISPLAY
DESCRIPTION:20 000 Bass Sous Les Mers
TRIGGER:-PT1H
END:VALARM
END:VEVENT
END:VCALENDAR
